BEGIN:VCALENDAR
VERSION:2.0
PRODID:-//Sunnyside Foursquare - ECPv6.15.20//NONSGML v1.0//EN
CALSCALE:GREGORIAN
METHOD:PUBLISH
X-WR-CALNAME:Sunnyside Foursquare
X-ORIGINAL-URL:https://sunnyside4.org
X-WR-CALDESC:Events for Sunnyside Foursquare
REFRESH-INTERVAL;VALUE=DURATION:PT1H
X-Robots-Tag:noindex
X-PUBLISHED-TTL:PT1H
BEGIN:VTIMEZONE
TZID:UTC
BEGIN:STANDARD
TZOFFSETFROM:+0000
TZOFFSETTO:+0000
TZNAME:UTC
DTSTART:20250101T000000
END:STANDARD
END:VTIMEZONE
BEGIN:VEVENT
DTSTART;TZID=UTC:20260419T083000
DTEND;TZID=UTC:20260419T093000
DTSTAMP:20260419T180602
CREATED:20260320T212745Z
LAST-MODIFIED:20260323T180305Z
UID:10001843-1776587400-1776591000@sunnyside4.org
SUMMARY:Rooted
DESCRIPTION:
URL:https://sunnyside4.org/event/rooted/2026-04-19/
LOCATION:Sunnyside Church\, 13231 SE Sunnyside Road\, Happy Valley\, Oregon\, 97015
END:VEVENT
BEGIN:VEVENT
DTSTART;TZID=UTC:20260419T100000
DTEND;TZID=UTC:20260419T111500
DTSTAMP:20260419T180602
CREATED:20260310T225148Z
LAST-MODIFIED:20260310T225149Z
UID:10000497-1776592800-1776597300@sunnyside4.org
SUMMARY:Sunday Morning Service
DESCRIPTION:
URL:https://sunnyside4.org/event/sunday-morning-service-2-2/2026-04-19/
LOCATION:Oregon
END:VEVENT
BEGIN:VEVENT
DTSTART;TZID=UTC:20260419T180000
DTEND;TZID=UTC:20260419T200000
DTSTAMP:20260419T180602
CREATED:20251226T232010Z
LAST-MODIFIED:20260105T205631Z
UID:10001551-1776621600-1776628800@sunnyside4.org
SUMMARY:FIRE Youth
DESCRIPTION:Come hang out with other middle and high school students together. Have fun and grow in faith!
URL:https://sunnyside4.org/event/fire-youth/2026-04-19/
LOCATION:Oregon
CATEGORIES:FIRE
ATTACH;FMTTYPE=image/webp:https://sunnyside4.org/wp-content/uploads/revslider/slider-1/YTH-Screen-Flyer-800.webp
END:VEVENT
END:VCALENDAR