BEGIN:VCALENDAR
VERSION:2.0
PRODID:-//Sunnyside Foursquare - ECPv6.15.20//NONSGML v1.0//EN
CALSCALE:GREGORIAN
METHOD:PUBLISH
X-ORIGINAL-URL:https://sunnyside4.org
X-WR-CALDESC:Events for Sunnyside Foursquare
REFRESH-INTERVAL;VALUE=DURATION:PT1H
X-Robots-Tag:noindex
X-PUBLISHED-TTL:PT1H
BEGIN:VTIMEZONE
TZID:UTC
BEGIN:STANDARD
TZOFFSETFROM:+0000
TZOFFSETTO:+0000
TZNAME:UTC
DTSTART:20250101T000000
END:STANDARD
END:VTIMEZONE
BEGIN:VEVENT
DTSTART;TZID=UTC:20260104T180000
DTEND;TZID=UTC:20260104T200000
DTSTAMP:20260420T082938
CREATED:20251226T232010Z
LAST-MODIFIED:20260105T205631Z
UID:10001536-1767549600-1767556800@sunnyside4.org
SUMMARY:FIRE Youth
DESCRIPTION:Come hang out with other middle and high school students together. Have fun and grow in faith!
URL:https://sunnyside4.org/event/fire-youth/2026-01-04/
CATEGORIES:FIRE
ATTACH;FMTTYPE=image/webp:https://sunnyside4.org/wp-content/uploads/revslider/slider-1/YTH-Screen-Flyer-800.webp
END:VEVENT
BEGIN:VEVENT
DTSTART;TZID=UTC:20260111T180000
DTEND;TZID=UTC:20260111T200000
DTSTAMP:20260420T082938
CREATED:20251226T232010Z
LAST-MODIFIED:20260105T205631Z
UID:10001537-1768154400-1768161600@sunnyside4.org
SUMMARY:FIRE Youth
DESCRIPTION:Come hang out with other middle and high school students together. Have fun and grow in faith!
URL:https://sunnyside4.org/event/fire-youth/2026-01-11/
CATEGORIES:FIRE
ATTACH;FMTTYPE=image/webp:https://sunnyside4.org/wp-content/uploads/revslider/slider-1/YTH-Screen-Flyer-800.webp
END:VEVENT
BEGIN:VEVENT
DTSTART;TZID=UTC:20260118T180000
DTEND;TZID=UTC:20260118T200000
DTSTAMP:20260420T082938
CREATED:20251226T232010Z
LAST-MODIFIED:20260105T205631Z
UID:10001538-1768759200-1768766400@sunnyside4.org
SUMMARY:FIRE Youth
DESCRIPTION:Come hang out with other middle and high school students together. Have fun and grow in faith!
URL:https://sunnyside4.org/event/fire-youth/2026-01-18/
CATEGORIES:FIRE
ATTACH;FMTTYPE=image/webp:https://sunnyside4.org/wp-content/uploads/revslider/slider-1/YTH-Screen-Flyer-800.webp
END:VEVENT
BEGIN:VEVENT
DTSTART;TZID=UTC:20260125T180000
DTEND;TZID=UTC:20260125T200000
DTSTAMP:20260420T082938
CREATED:20251226T232010Z
LAST-MODIFIED:20260105T205631Z
UID:10001539-1769364000-1769371200@sunnyside4.org
SUMMARY:FIRE Youth
DESCRIPTION:Come hang out with other middle and high school students together. Have fun and grow in faith!
URL:https://sunnyside4.org/event/fire-youth/2026-01-25/
CATEGORIES:FIRE
ATTACH;FMTTYPE=image/webp:https://sunnyside4.org/wp-content/uploads/revslider/slider-1/YTH-Screen-Flyer-800.webp
END:VEVENT
END:VCALENDAR