BEGIN:VCALENDAR
VERSION:2.0
PRODID:-//Sunnyside Foursquare - ECPv6.15.20//NONSGML v1.0//EN
CALSCALE:GREGORIAN
METHOD:PUBLISH
X-WR-CALNAME:Sunnyside Foursquare
X-ORIGINAL-URL:https://sunnyside4.org
X-WR-CALDESC:Events for Sunnyside Foursquare
REFRESH-INTERVAL;VALUE=DURATION:PT1H
X-Robots-Tag:noindex
X-PUBLISHED-TTL:PT1H
BEGIN:VTIMEZONE
TZID:America/Denver
BEGIN:DAYLIGHT
TZOFFSETFROM:-0700
TZOFFSETTO:-0600
TZNAME:MDT
DTSTART:20180311T090000
END:DAYLIGHT
BEGIN:STANDARD
TZOFFSETFROM:-0600
TZOFFSETTO:-0700
TZNAME:MST
DTSTART:20181104T080000
END:STANDARD
BEGIN:DAYLIGHT
TZOFFSETFROM:-0700
TZOFFSETTO:-0600
TZNAME:MDT
DTSTART:20190310T090000
END:DAYLIGHT
BEGIN:STANDARD
TZOFFSETFROM:-0600
TZOFFSETTO:-0700
TZNAME:MST
DTSTART:20191103T080000
END:STANDARD
BEGIN:DAYLIGHT
TZOFFSETFROM:-0700
TZOFFSETTO:-0600
TZNAME:MDT
DTSTART:20200308T090000
END:DAYLIGHT
BEGIN:STANDARD
TZOFFSETFROM:-0600
TZOFFSETTO:-0700
TZNAME:MST
DTSTART:20201101T080000
END:STANDARD
END:VTIMEZONE
BEGIN:VEVENT
DTSTART;TZID=America/Denver:20191202T170000
DTEND;TZID=America/Denver:20191202T210000
DTSTAMP:20260425T223407
CREATED:20191113T204442Z
LAST-MODIFIED:20251218T191009Z
UID:10000029-1575306000-1575320400@sunnyside4.org
SUMMARY:Monday Night Family Fellowship
DESCRIPTION:The Legacy Men’s Ministry proudly invites all of Sunnyside to a fun evening of football and fellowship! The whole family is welcome to wear their favorite jersey to this exciting night that includes watching the Seahawks game on the big screen\, a chili cook-off\, and cornhole tournament. We’ll also have cookie decorating for kids & we’ll be baking cookies to give to neighbors!
URL:https://sunnyside4.org/event/monday-night-family-fellowship/
CATEGORIES:Family Ministries,Men's Ministry
ATTACH;FMTTYPE=image/png:https://sunnyside4.org/wp-content/uploads/2019/11/Slides-02-2.png
END:VEVENT
END:VCALENDAR