BEGIN:VCALENDAR
VERSION:2.0
PRODID:-//Sunnyside Foursquare - ECPv6.15.20//NONSGML v1.0//EN
CALSCALE:GREGORIAN
METHOD:PUBLISH
X-WR-CALNAME:Sunnyside Foursquare
X-ORIGINAL-URL:https://sunnyside4.org
X-WR-CALDESC:Events for Sunnyside Foursquare
REFRESH-INTERVAL;VALUE=DURATION:PT1H
X-Robots-Tag:noindex
X-PUBLISHED-TTL:PT1H
BEGIN:VTIMEZONE
TZID:America/Los_Angeles
BEGIN:DAYLIGHT
TZOFFSETFROM:-0800
TZOFFSETTO:-0700
TZNAME:PDT
DTSTART:20220313T100000
END:DAYLIGHT
BEGIN:STANDARD
TZOFFSETFROM:-0700
TZOFFSETTO:-0800
TZNAME:PST
DTSTART:20221106T090000
END:STANDARD
BEGIN:DAYLIGHT
TZOFFSETFROM:-0800
TZOFFSETTO:-0700
TZNAME:PDT
DTSTART:20230312T100000
END:DAYLIGHT
BEGIN:STANDARD
TZOFFSETFROM:-0700
TZOFFSETTO:-0800
TZNAME:PST
DTSTART:20231105T090000
END:STANDARD
BEGIN:DAYLIGHT
TZOFFSETFROM:-0800
TZOFFSETTO:-0700
TZNAME:PDT
DTSTART:20240310T100000
END:DAYLIGHT
BEGIN:STANDARD
TZOFFSETFROM:-0700
TZOFFSETTO:-0800
TZNAME:PST
DTSTART:20241103T090000
END:STANDARD
END:VTIMEZONE
BEGIN:VEVENT
DTSTART;VALUE=DATE:20230505
DTEND;VALUE=DATE:20230508
DTSTAMP:20260422T212755
CREATED:20230301T180509Z
LAST-MODIFIED:20251218T191251Z
UID:10000194-1683244800-1683503999@sunnyside4.org
SUMMARY:Men's Retreat
DESCRIPTION:Join Foursquare churches from around the state of Oregon for a gathering at Twin Rocks Friends Camp near Rockaway Beach. This joint Men’s Retreat will focus on having hope in a discouraging world. We cannot wait to meet God with you this May.
URL:https://sunnyside4.org/event/mens-retreat/
CATEGORIES:Men's Ministry
ATTACH;FMTTYPE=image/png:https://sunnyside4.org/wp-content/uploads/2023/03/Mens-Retreat-2023-SLIDE.png
END:VEVENT
END:VCALENDAR