BEGIN:VCALENDAR
VERSION:2.0
PRODID:-//Sunnyside Foursquare - ECPv6.15.20//NONSGML v1.0//EN
CALSCALE:GREGORIAN
METHOD:PUBLISH
X-ORIGINAL-URL:https://sunnyside4.org
X-WR-CALDESC:Events for Sunnyside Foursquare
REFRESH-INTERVAL;VALUE=DURATION:PT1H
X-Robots-Tag:noindex
X-PUBLISHED-TTL:PT1H
BEGIN:VTIMEZONE
TZID:America/Los_Angeles
BEGIN:DAYLIGHT
TZOFFSETFROM:-0800
TZOFFSETTO:-0700
TZNAME:PDT
DTSTART:20200308T100000
END:DAYLIGHT
BEGIN:STANDARD
TZOFFSETFROM:-0700
TZOFFSETTO:-0800
TZNAME:PST
DTSTART:20201101T090000
END:STANDARD
BEGIN:DAYLIGHT
TZOFFSETFROM:-0800
TZOFFSETTO:-0700
TZNAME:PDT
DTSTART:20210314T100000
END:DAYLIGHT
BEGIN:STANDARD
TZOFFSETFROM:-0700
TZOFFSETTO:-0800
TZNAME:PST
DTSTART:20211107T090000
END:STANDARD
BEGIN:DAYLIGHT
TZOFFSETFROM:-0800
TZOFFSETTO:-0700
TZNAME:PDT
DTSTART:20220313T100000
END:DAYLIGHT
BEGIN:STANDARD
TZOFFSETFROM:-0700
TZOFFSETTO:-0800
TZNAME:PST
DTSTART:20221106T090000
END:STANDARD
END:VTIMEZONE
BEGIN:VEVENT
DTSTART;TZID=America/Los_Angeles:20211016T140000
DTEND;TZID=America/Los_Angeles:20211016T160000
DTSTAMP:20260425T110323
CREATED:20210921T194757Z
LAST-MODIFIED:20251218T191154Z
UID:10000122-1634392800-1634400000@sunnyside4.org
SUMMARY:Soup and Testimony
DESCRIPTION:Who:  All women!  From 18 to 100 \nWhat:  Soup and Testimony \nWhen:  Saturday\, October 16th from 2:00 to 4:00 PM \nWhere:  Sunnyside Church Youth Center \nLadies of Sunnyside mark your calendars! Join us for meaningful worship\, delicious soup\, and powerful testimonies from some of our sisters in Christ. You won’t want to miss it!
URL:https://sunnyside4.org/event/soup-and-testimony/
CATEGORIES:Women's Ministry
ATTACH;FMTTYPE=image/png:https://sunnyside4.org/wp-content/uploads/2021/09/soup-and-testimony-final.png
END:VEVENT
END:VCALENDAR