BEGIN:VCALENDAR
VERSION:2.0
PRODID:-//Sunnyside Foursquare - ECPv6.15.20//NONSGML v1.0//EN
CALSCALE:GREGORIAN
METHOD:PUBLISH
X-WR-CALNAME:Sunnyside Foursquare
X-ORIGINAL-URL:https://sunnyside4.org
X-WR-CALDESC:Events for Sunnyside Foursquare
REFRESH-INTERVAL;VALUE=DURATION:PT1H
X-Robots-Tag:noindex
X-PUBLISHED-TTL:PT1H
BEGIN:VTIMEZONE
TZID:America/Los_Angeles
BEGIN:DAYLIGHT
TZOFFSETFROM:-0800
TZOFFSETTO:-0700
TZNAME:PDT
DTSTART:20220313T100000
END:DAYLIGHT
BEGIN:STANDARD
TZOFFSETFROM:-0700
TZOFFSETTO:-0800
TZNAME:PST
DTSTART:20221106T090000
END:STANDARD
BEGIN:DAYLIGHT
TZOFFSETFROM:-0800
TZOFFSETTO:-0700
TZNAME:PDT
DTSTART:20230312T100000
END:DAYLIGHT
BEGIN:STANDARD
TZOFFSETFROM:-0700
TZOFFSETTO:-0800
TZNAME:PST
DTSTART:20231105T090000
END:STANDARD
BEGIN:DAYLIGHT
TZOFFSETFROM:-0800
TZOFFSETTO:-0700
TZNAME:PDT
DTSTART:20240310T100000
END:DAYLIGHT
BEGIN:STANDARD
TZOFFSETFROM:-0700
TZOFFSETTO:-0800
TZNAME:PST
DTSTART:20241103T090000
END:STANDARD
END:VTIMEZONE
BEGIN:VEVENT
DTSTART;TZID=America/Los_Angeles:20230710T180000
DTEND;TZID=America/Los_Angeles:20230710T210000
DTSTAMP:20260423T213710
CREATED:20230619T214443Z
LAST-MODIFIED:20251218T191301Z
UID:10000211-1689012000-1689022800@sunnyside4.org
SUMMARY:Sunnyside Sisters Serve Night
DESCRIPTION:It feels good to do good! Sunnyside Sisters meet us at 5pm at Happy Valley Station to grab dinner or at 7pm at Imago Dei to build resource kits for the homeless. If interested in carpooling\, please email sunnysidesisters@gmail.com
URL:https://sunnyside4.org/event/sunnyside-sisters-serve-night/
CATEGORIES:Women's Ministry
ATTACH;FMTTYPE=image/jpeg:https://sunnyside4.org/wp-content/uploads/2023/06/SS-Serve-Night-Slide.jpg
END:VEVENT
END:VCALENDAR