BEGIN:VCALENDAR
VERSION:2.0
PRODID:-//Sunnyside Foursquare - ECPv6.15.20//NONSGML v1.0//EN
CALSCALE:GREGORIAN
METHOD:PUBLISH
X-ORIGINAL-URL:https://sunnyside4.org
X-WR-CALDESC:Events for Sunnyside Foursquare
REFRESH-INTERVAL;VALUE=DURATION:PT1H
X-Robots-Tag:noindex
X-PUBLISHED-TTL:PT1H
BEGIN:VTIMEZONE
TZID:America/Los_Angeles
BEGIN:DAYLIGHT
TZOFFSETFROM:-0800
TZOFFSETTO:-0700
TZNAME:PDT
DTSTART:20230312T100000
END:DAYLIGHT
BEGIN:STANDARD
TZOFFSETFROM:-0700
TZOFFSETTO:-0800
TZNAME:PST
DTSTART:20231105T090000
END:STANDARD
BEGIN:DAYLIGHT
TZOFFSETFROM:-0800
TZOFFSETTO:-0700
TZNAME:PDT
DTSTART:20240310T100000
END:DAYLIGHT
BEGIN:STANDARD
TZOFFSETFROM:-0700
TZOFFSETTO:-0800
TZNAME:PST
DTSTART:20241103T090000
END:STANDARD
BEGIN:DAYLIGHT
TZOFFSETFROM:-0800
TZOFFSETTO:-0700
TZNAME:PDT
DTSTART:20250309T100000
END:DAYLIGHT
BEGIN:STANDARD
TZOFFSETFROM:-0700
TZOFFSETTO:-0800
TZNAME:PST
DTSTART:20251102T090000
END:STANDARD
END:VTIMEZONE
BEGIN:VEVENT
DTSTART;TZID=America/Los_Angeles:20240202T190000
DTEND;TZID=America/Los_Angeles:20240202T210000
DTSTAMP:20260423T085712
CREATED:20240112T182140Z
LAST-MODIFIED:20251218T191311Z
UID:10000226-1706900400-1706907600@sunnyside4.org
SUMMARY:Ladies Night Out with Comedian Amy Barnes
DESCRIPTION:
URL:https://sunnyside4.org/event/ladies-night-out-with-comedian-amy-barnes/
CATEGORIES:Women's Ministry
ATTACH;FMTTYPE=image/png:https://sunnyside4.org/wp-content/uploads/2024/01/Amy-Barnes.png
END:VEVENT
BEGIN:VEVENT
DTSTART;TZID=America/Los_Angeles:20240204T113000
DTEND;TZID=America/Los_Angeles:20240204T120000
DTSTAMP:20260423T085712
CREATED:20240123T103805Z
LAST-MODIFIED:20240123T103805Z
UID:10000227-1707046200-1707048000@sunnyside4.org
SUMMARY:Intro to Sunnyside
DESCRIPTION:Immediately following service in the Lounge (off the Coffee Bar). \nIf you’re new or newer to Sunnyside and are curious about what it means to partner with us\, or you have questions about the mission of Sunnyside\, this is the event for you!
URL:https://sunnyside4.org/event/intro-to-sunnyside-11/
CATEGORIES:Connect Groups,Family Ministries,Men's Ministry,Sunday Morning,Women's Ministry
ATTACH;FMTTYPE=:
END:VEVENT
BEGIN:VEVENT
DTSTART;TZID=America/Los_Angeles:20240223T180000
DTEND;TZID=America/Los_Angeles:20240223T200000
DTSTAMP:20260423T085712
CREATED:20240112T101508Z
LAST-MODIFIED:20240112T101508Z
UID:10000225-1708711200-1708718400@sunnyside4.org
SUMMARY:Ladies Game Night
DESCRIPTION:Join us for a fun night of Bunco! RSVP to bring something to share.
URL:https://sunnyside4.org/event/ladies-game-night-2/
CATEGORIES:Women's Ministry
ATTACH;FMTTYPE=:
END:VEVENT
BEGIN:VEVENT
DTSTART;TZID=America/Los_Angeles:20240223T180000
DTEND;TZID=America/Los_Angeles:20240223T200000
DTSTAMP:20260423T085712
CREATED:20240112T181508Z
LAST-MODIFIED:20251218T191310Z
UID:10000185-1708711200-1708718400@sunnyside4.org
SUMMARY:Ladies Game Night
DESCRIPTION:Join us for a fun night of Bunco! RSVP to bring something to share.
URL:https://sunnyside4.org/event/ladies-game-night-2-2/
CATEGORIES:Women's Ministry
ATTACH;FMTTYPE=image/png:https://sunnyside4.org/wp-content/uploads/2024/01/game-night-slide.png
END:VEVENT
END:VCALENDAR