BEGIN:VCALENDAR
VERSION:2.0
PRODID:-//Sunnyside Foursquare - ECPv6.15.20//NONSGML v1.0//EN
CALSCALE:GREGORIAN
METHOD:PUBLISH
X-WR-CALNAME:Sunnyside Foursquare
X-ORIGINAL-URL:https://sunnyside4.org
X-WR-CALDESC:Events for Sunnyside Foursquare
REFRESH-INTERVAL;VALUE=DURATION:PT1H
X-Robots-Tag:noindex
X-PUBLISHED-TTL:PT1H
BEGIN:VTIMEZONE
TZID:UTC
BEGIN:STANDARD
TZOFFSETFROM:+0000
TZOFFSETTO:+0000
TZNAME:UTC
DTSTART:20250101T000000
END:STANDARD
END:VTIMEZONE
BEGIN:VEVENT
DTSTART;TZID=UTC:20260426T100000
DTEND;TZID=UTC:20260426T111500
DTSTAMP:20260420T230938
CREATED:20260310T225148Z
LAST-MODIFIED:20260310T225149Z
UID:10000498-1777197600-1777202100@sunnyside4.org
SUMMARY:Sunday Morning Service
DESCRIPTION:
URL:https://sunnyside4.org/event/sunday-morning-service-2-2/2026-04-26/
END:VEVENT
BEGIN:VEVENT
DTSTART;TZID=UTC:20260503T100000
DTEND;TZID=UTC:20260503T111500
DTSTAMP:20260420T230938
CREATED:20260310T225148Z
LAST-MODIFIED:20260310T225149Z
UID:10000499-1777802400-1777806900@sunnyside4.org
SUMMARY:Sunday Morning Service
DESCRIPTION:
URL:https://sunnyside4.org/event/sunday-morning-service-2-2/2026-05-03/
END:VEVENT
BEGIN:VEVENT
DTSTART;TZID=UTC:20260510T100000
DTEND;TZID=UTC:20260510T111500
DTSTAMP:20260420T230938
CREATED:20260310T225148Z
LAST-MODIFIED:20260310T225149Z
UID:10000500-1778407200-1778411700@sunnyside4.org
SUMMARY:Sunday Morning Service
DESCRIPTION:
URL:https://sunnyside4.org/event/sunday-morning-service-2-2/2026-05-10/
END:VEVENT
BEGIN:VEVENT
DTSTART;TZID=UTC:20260517T100000
DTEND;TZID=UTC:20260517T111500
DTSTAMP:20260420T230938
CREATED:20260310T225148Z
LAST-MODIFIED:20260310T225149Z
UID:10000501-1779012000-1779016500@sunnyside4.org
SUMMARY:Sunday Morning Service
DESCRIPTION:
URL:https://sunnyside4.org/event/sunday-morning-service-2-2/2026-05-17/
END:VEVENT
BEGIN:VEVENT
DTSTART;TZID=UTC:20260524T100000
DTEND;TZID=UTC:20260524T111500
DTSTAMP:20260420T230938
CREATED:20260310T225148Z
LAST-MODIFIED:20260310T225149Z
UID:10000502-1779616800-1779621300@sunnyside4.org
SUMMARY:Sunday Morning Service
DESCRIPTION:
URL:https://sunnyside4.org/event/sunday-morning-service-2-2/2026-05-24/
END:VEVENT
BEGIN:VEVENT
DTSTART;TZID=UTC:20260531T100000
DTEND;TZID=UTC:20260531T111500
DTSTAMP:20260420T230938
CREATED:20260310T225148Z
LAST-MODIFIED:20260310T225149Z
UID:10000503-1780221600-1780226100@sunnyside4.org
SUMMARY:Sunday Morning Service
DESCRIPTION:
URL:https://sunnyside4.org/event/sunday-morning-service-2-2/2026-05-31/
END:VEVENT
BEGIN:VEVENT
DTSTART;TZID=UTC:20260607T100000
DTEND;TZID=UTC:20260607T111500
DTSTAMP:20260420T230938
CREATED:20260310T225148Z
LAST-MODIFIED:20260310T225149Z
UID:10000504-1780826400-1780830900@sunnyside4.org
SUMMARY:Sunday Morning Service
DESCRIPTION:
URL:https://sunnyside4.org/event/sunday-morning-service-2-2/2026-06-07/
END:VEVENT
BEGIN:VEVENT
DTSTART;TZID=UTC:20260614T100000
DTEND;TZID=UTC:20260614T111500
DTSTAMP:20260420T230938
CREATED:20260310T225148Z
LAST-MODIFIED:20260310T225149Z
UID:10000505-1781431200-1781435700@sunnyside4.org
SUMMARY:Sunday Morning Service
DESCRIPTION:
URL:https://sunnyside4.org/event/sunday-morning-service-2-2/2026-06-14/
END:VEVENT
BEGIN:VEVENT
DTSTART;TZID=UTC:20260621T100000
DTEND;TZID=UTC:20260621T111500
DTSTAMP:20260420T230938
CREATED:20260310T225148Z
LAST-MODIFIED:20260310T225149Z
UID:10000506-1782036000-1782040500@sunnyside4.org
SUMMARY:Sunday Morning Service
DESCRIPTION:
URL:https://sunnyside4.org/event/sunday-morning-service-2-2/2026-06-21/
END:VEVENT
BEGIN:VEVENT
DTSTART;TZID=UTC:20260628T100000
DTEND;TZID=UTC:20260628T111500
DTSTAMP:20260420T230938
CREATED:20260310T225148Z
LAST-MODIFIED:20260310T225149Z
UID:10000507-1782640800-1782645300@sunnyside4.org
SUMMARY:Sunday Morning Service
DESCRIPTION:
URL:https://sunnyside4.org/event/sunday-morning-service-2-2/2026-06-28/
END:VEVENT
BEGIN:VEVENT
DTSTART;TZID=UTC:20260705T100000
DTEND;TZID=UTC:20260705T111500
DTSTAMP:20260420T230938
CREATED:20260310T225148Z
LAST-MODIFIED:20260310T225149Z
UID:10000508-1783245600-1783250100@sunnyside4.org
SUMMARY:Sunday Morning Service
DESCRIPTION:
URL:https://sunnyside4.org/event/sunday-morning-service-2-2/2026-07-05/
END:VEVENT
BEGIN:VEVENT
DTSTART;TZID=UTC:20260712T100000
DTEND;TZID=UTC:20260712T111500
DTSTAMP:20260420T230938
CREATED:20260310T225148Z
LAST-MODIFIED:20260310T225149Z
UID:10000509-1783850400-1783854900@sunnyside4.org
SUMMARY:Sunday Morning Service
DESCRIPTION:
URL:https://sunnyside4.org/event/sunday-morning-service-2-2/2026-07-12/
END:VEVENT
BEGIN:VEVENT
DTSTART;TZID=UTC:20260719T100000
DTEND;TZID=UTC:20260719T111500
DTSTAMP:20260420T230938
CREATED:20260310T225148Z
LAST-MODIFIED:20260310T225149Z
UID:10000510-1784455200-1784459700@sunnyside4.org
SUMMARY:Sunday Morning Service
DESCRIPTION:
URL:https://sunnyside4.org/event/sunday-morning-service-2-2/2026-07-19/
END:VEVENT
BEGIN:VEVENT
DTSTART;TZID=UTC:20260726T100000
DTEND;TZID=UTC:20260726T111500
DTSTAMP:20260420T230938
CREATED:20260310T225148Z
LAST-MODIFIED:20260310T225149Z
UID:10000511-1785060000-1785064500@sunnyside4.org
SUMMARY:Sunday Morning Service
DESCRIPTION:
URL:https://sunnyside4.org/event/sunday-morning-service-2-2/2026-07-26/
END:VEVENT
BEGIN:VEVENT
DTSTART;TZID=UTC:20260802T100000
DTEND;TZID=UTC:20260802T111500
DTSTAMP:20260420T230938
CREATED:20260310T225148Z
LAST-MODIFIED:20260310T225149Z
UID:10000512-1785664800-1785669300@sunnyside4.org
SUMMARY:Sunday Morning Service
DESCRIPTION:
URL:https://sunnyside4.org/event/sunday-morning-service-2-2/2026-08-02/
END:VEVENT
BEGIN:VEVENT
DTSTART;TZID=UTC:20260809T100000
DTEND;TZID=UTC:20260809T111500
DTSTAMP:20260420T230938
CREATED:20260310T225148Z
LAST-MODIFIED:20260310T225149Z
UID:10000513-1786269600-1786274100@sunnyside4.org
SUMMARY:Sunday Morning Service
DESCRIPTION:
URL:https://sunnyside4.org/event/sunday-morning-service-2-2/2026-08-09/
END:VEVENT
BEGIN:VEVENT
DTSTART;TZID=UTC:20260816T100000
DTEND;TZID=UTC:20260816T111500
DTSTAMP:20260420T230938
CREATED:20260310T225148Z
LAST-MODIFIED:20260310T225149Z
UID:10000514-1786874400-1786878900@sunnyside4.org
SUMMARY:Sunday Morning Service
DESCRIPTION:
URL:https://sunnyside4.org/event/sunday-morning-service-2-2/2026-08-16/
END:VEVENT
BEGIN:VEVENT
DTSTART;TZID=UTC:20260823T100000
DTEND;TZID=UTC:20260823T111500
DTSTAMP:20260420T230938
CREATED:20260310T225148Z
LAST-MODIFIED:20260310T225149Z
UID:10000515-1787479200-1787483700@sunnyside4.org
SUMMARY:Sunday Morning Service
DESCRIPTION:
URL:https://sunnyside4.org/event/sunday-morning-service-2-2/2026-08-23/
END:VEVENT
BEGIN:VEVENT
DTSTART;TZID=UTC:20260830T100000
DTEND;TZID=UTC:20260830T111500
DTSTAMP:20260420T230938
CREATED:20260310T225148Z
LAST-MODIFIED:20260310T225149Z
UID:10000516-1788084000-1788088500@sunnyside4.org
SUMMARY:Sunday Morning Service
DESCRIPTION:
URL:https://sunnyside4.org/event/sunday-morning-service-2-2/2026-08-30/
END:VEVENT
BEGIN:VEVENT
DTSTART;TZID=UTC:20260906T100000
DTEND;TZID=UTC:20260906T111500
DTSTAMP:20260420T230938
CREATED:20260310T225148Z
LAST-MODIFIED:20260310T225149Z
UID:10000517-1788688800-1788693300@sunnyside4.org
SUMMARY:Sunday Morning Service
DESCRIPTION:
URL:https://sunnyside4.org/event/sunday-morning-service-2-2/2026-09-06/
END:VEVENT
BEGIN:VEVENT
DTSTART;TZID=UTC:20260913T100000
DTEND;TZID=UTC:20260913T111500
DTSTAMP:20260420T230938
CREATED:20260310T225148Z
LAST-MODIFIED:20260310T225149Z
UID:10000518-1789293600-1789298100@sunnyside4.org
SUMMARY:Sunday Morning Service
DESCRIPTION:
URL:https://sunnyside4.org/event/sunday-morning-service-2-2/2026-09-13/
END:VEVENT
BEGIN:VEVENT
DTSTART;TZID=UTC:20260920T100000
DTEND;TZID=UTC:20260920T111500
DTSTAMP:20260420T230938
CREATED:20260310T225148Z
LAST-MODIFIED:20260310T225149Z
UID:10000519-1789898400-1789902900@sunnyside4.org
SUMMARY:Sunday Morning Service
DESCRIPTION:
URL:https://sunnyside4.org/event/sunday-morning-service-2-2/2026-09-20/
END:VEVENT
BEGIN:VEVENT
DTSTART;TZID=UTC:20260927T100000
DTEND;TZID=UTC:20260927T111500
DTSTAMP:20260420T230938
CREATED:20260310T225148Z
LAST-MODIFIED:20260310T225149Z
UID:10000520-1790503200-1790507700@sunnyside4.org
SUMMARY:Sunday Morning Service
DESCRIPTION:
URL:https://sunnyside4.org/event/sunday-morning-service-2-2/2026-09-27/
END:VEVENT
BEGIN:VEVENT
DTSTART;TZID=UTC:20261004T100000
DTEND;TZID=UTC:20261004T111500
DTSTAMP:20260420T230938
CREATED:20260310T225148Z
LAST-MODIFIED:20260310T225149Z
UID:10000521-1791108000-1791112500@sunnyside4.org
SUMMARY:Sunday Morning Service
DESCRIPTION:
URL:https://sunnyside4.org/event/sunday-morning-service-2-2/2026-10-04/
END:VEVENT
BEGIN:VEVENT
DTSTART;TZID=UTC:20261011T100000
DTEND;TZID=UTC:20261011T111500
DTSTAMP:20260420T230938
CREATED:20260310T225148Z
LAST-MODIFIED:20260310T225149Z
UID:10000522-1791712800-1791717300@sunnyside4.org
SUMMARY:Sunday Morning Service
DESCRIPTION:
URL:https://sunnyside4.org/event/sunday-morning-service-2-2/2026-10-11/
END:VEVENT
BEGIN:VEVENT
DTSTART;TZID=UTC:20261018T100000
DTEND;TZID=UTC:20261018T111500
DTSTAMP:20260420T230938
CREATED:20260310T225148Z
LAST-MODIFIED:20260310T225149Z
UID:10000523-1792317600-1792322100@sunnyside4.org
SUMMARY:Sunday Morning Service
DESCRIPTION:
URL:https://sunnyside4.org/event/sunday-morning-service-2-2/2026-10-18/
END:VEVENT
BEGIN:VEVENT
DTSTART;TZID=UTC:20261025T100000
DTEND;TZID=UTC:20261025T111500
DTSTAMP:20260420T230938
CREATED:20260310T225148Z
LAST-MODIFIED:20260310T225149Z
UID:10000524-1792922400-1792926900@sunnyside4.org
SUMMARY:Sunday Morning Service
DESCRIPTION:
URL:https://sunnyside4.org/event/sunday-morning-service-2-2/2026-10-25/
END:VEVENT
BEGIN:VEVENT
DTSTART;TZID=UTC:20261101T100000
DTEND;TZID=UTC:20261101T111500
DTSTAMP:20260420T230938
CREATED:20260310T225148Z
LAST-MODIFIED:20260310T225149Z
UID:10000525-1793527200-1793531700@sunnyside4.org
SUMMARY:Sunday Morning Service
DESCRIPTION:
URL:https://sunnyside4.org/event/sunday-morning-service-2-2/2026-11-01/
END:VEVENT
BEGIN:VEVENT
DTSTART;TZID=UTC:20261108T100000
DTEND;TZID=UTC:20261108T111500
DTSTAMP:20260420T230938
CREATED:20260310T225148Z
LAST-MODIFIED:20260310T225149Z
UID:10000526-1794132000-1794136500@sunnyside4.org
SUMMARY:Sunday Morning Service
DESCRIPTION:
URL:https://sunnyside4.org/event/sunday-morning-service-2-2/2026-11-08/
END:VEVENT
BEGIN:VEVENT
DTSTART;TZID=UTC:20261115T100000
DTEND;TZID=UTC:20261115T111500
DTSTAMP:20260420T230938
CREATED:20260310T225148Z
LAST-MODIFIED:20260310T225149Z
UID:10000527-1794736800-1794741300@sunnyside4.org
SUMMARY:Sunday Morning Service
DESCRIPTION:
URL:https://sunnyside4.org/event/sunday-morning-service-2-2/2026-11-15/
END:VEVENT
END:VCALENDAR