BEGIN:VCALENDAR
VERSION:2.0
PRODID:-//Sunnyside Foursquare - ECPv6.15.20//NONSGML v1.0//EN
CALSCALE:GREGORIAN
METHOD:PUBLISH
X-ORIGINAL-URL:https://sunnyside4.org
X-WR-CALDESC:Events for Sunnyside Foursquare
REFRESH-INTERVAL;VALUE=DURATION:PT1H
X-Robots-Tag:noindex
X-PUBLISHED-TTL:PT1H
BEGIN:VTIMEZONE
TZID:America/Los_Angeles
BEGIN:DAYLIGHT
TZOFFSETFROM:-0800
TZOFFSETTO:-0700
TZNAME:PDT
DTSTART:20250309T100000
END:DAYLIGHT
BEGIN:STANDARD
TZOFFSETFROM:-0700
TZOFFSETTO:-0800
TZNAME:PST
DTSTART:20251102T090000
END:STANDARD
BEGIN:DAYLIGHT
TZOFFSETFROM:-0800
TZOFFSETTO:-0700
TZNAME:PDT
DTSTART:20260308T100000
END:DAYLIGHT
BEGIN:STANDARD
TZOFFSETFROM:-0700
TZOFFSETTO:-0800
TZNAME:PST
DTSTART:20261101T090000
END:STANDARD
BEGIN:DAYLIGHT
TZOFFSETFROM:-0800
TZOFFSETTO:-0700
TZNAME:PDT
DTSTART:20270314T100000
END:DAYLIGHT
BEGIN:STANDARD
TZOFFSETFROM:-0700
TZOFFSETTO:-0800
TZNAME:PST
DTSTART:20271107T090000
END:STANDARD
END:VTIMEZONE
BEGIN:VTIMEZONE
TZID:UTC
BEGIN:STANDARD
TZOFFSETFROM:+0000
TZOFFSETTO:+0000
TZNAME:UTC
DTSTART:20250101T000000
END:STANDARD
END:VTIMEZONE
BEGIN:VEVENT
DTSTART;TZID=America/Los_Angeles:20260420T083000
DTEND;TZID=America/Los_Angeles:20260420T093000
DTSTAMP:20260420T131948
CREATED:20251202T221845Z
LAST-MODIFIED:20251230T192919Z
UID:10000757-1776673800-1776677400@sunnyside4.org
SUMMARY:Monday Morning Prayer
DESCRIPTION:Open to all\, this prayer group happens each Monday at 8:30 AM in the sanctuary. Let’s intercede for our body\, for our city and for the world! We pray over requests from connection cards; we ask for healing over the sick; we praise and thank the Lord as he leads each week. Join us! Questions? Email Randy: randywredeco@hotmail.com.
URL:https://sunnyside4.org/event/monday-morning-prayer-14/2026-04-20/
LOCATION:Sunnyside Church\, 13231 SE Sunnyside Road\, Happy Valley\, Oregon\, 97015
END:VEVENT
BEGIN:VEVENT
DTSTART;TZID=America/Los_Angeles:20260421T070000
DTEND;TZID=America/Los_Angeles:20260421T083000
DTSTAMP:20260420T131948
CREATED:20251202T001917Z
LAST-MODIFIED:20251230T191611Z
UID:10001291-1776754800-1776760200@sunnyside4.org
SUMMARY:Tuesday Men's Bible Study
DESCRIPTION:Men of Sunnyside\, please join us in room 215 for praise\, prayer and the Word!
URL:https://sunnyside4.org/event/tuesday-mens-bible-study/2026-04-21/
LOCATION:Sunnyside Church\, 13231 SE Sunnyside Road\, Happy Valley\, Oregon\, 97015
END:VEVENT
BEGIN:VEVENT
DTSTART;TZID=UTC:20260422T180000
DTEND;TZID=UTC:20260422T200000
DTSTAMP:20260420T131948
CREATED:20260320T212941Z
LAST-MODIFIED:20260320T225845Z
UID:10001850-1776880800-1776888000@sunnyside4.org
SUMMARY:Emotionally Healthy Relationships (EHR)
DESCRIPTION:
URL:https://sunnyside4.org/event/emotionally-healthy-relationships-ehr/
LOCATION:Sunnyside Church\, 13231 SE Sunnyside Road\, Happy Valley\, Oregon\, 97015
END:VEVENT
BEGIN:VEVENT
DTSTART;TZID=UTC:20260426T083000
DTEND;TZID=UTC:20260426T093000
DTSTAMP:20260420T131948
CREATED:20260320T212745Z
LAST-MODIFIED:20260323T180305Z
UID:10001844-1777192200-1777195800@sunnyside4.org
SUMMARY:Rooted
DESCRIPTION:
URL:https://sunnyside4.org/event/rooted/2026-04-26/
LOCATION:Sunnyside Church\, 13231 SE Sunnyside Road\, Happy Valley\, Oregon\, 97015
END:VEVENT
BEGIN:VEVENT
DTSTART;TZID=America/Los_Angeles:20260427T083000
DTEND;TZID=America/Los_Angeles:20260427T093000
DTSTAMP:20260420T131948
CREATED:20251202T221845Z
LAST-MODIFIED:20251230T192919Z
UID:10000758-1777278600-1777282200@sunnyside4.org
SUMMARY:Monday Morning Prayer
DESCRIPTION:Open to all\, this prayer group happens each Monday at 8:30 AM in the sanctuary. Let’s intercede for our body\, for our city and for the world! We pray over requests from connection cards; we ask for healing over the sick; we praise and thank the Lord as he leads each week. Join us! Questions? Email Randy: randywredeco@hotmail.com.
URL:https://sunnyside4.org/event/monday-morning-prayer-14/2026-04-27/
LOCATION:Sunnyside Church\, 13231 SE Sunnyside Road\, Happy Valley\, Oregon\, 97015
END:VEVENT
BEGIN:VEVENT
DTSTART;TZID=America/Los_Angeles:20260428T070000
DTEND;TZID=America/Los_Angeles:20260428T083000
DTSTAMP:20260420T131948
CREATED:20251202T001917Z
LAST-MODIFIED:20251230T191611Z
UID:10001292-1777359600-1777365000@sunnyside4.org
SUMMARY:Tuesday Men's Bible Study
DESCRIPTION:Men of Sunnyside\, please join us in room 215 for praise\, prayer and the Word!
URL:https://sunnyside4.org/event/tuesday-mens-bible-study/2026-04-28/
LOCATION:Sunnyside Church\, 13231 SE Sunnyside Road\, Happy Valley\, Oregon\, 97015
END:VEVENT
BEGIN:VEVENT
DTSTART;TZID=UTC:20260503T083000
DTEND;TZID=UTC:20260503T093000
DTSTAMP:20260420T131948
CREATED:20260320T212745Z
LAST-MODIFIED:20260323T180305Z
UID:10001845-1777797000-1777800600@sunnyside4.org
SUMMARY:Rooted
DESCRIPTION:
URL:https://sunnyside4.org/event/rooted/2026-05-03/
LOCATION:Sunnyside Church\, 13231 SE Sunnyside Road\, Happy Valley\, Oregon\, 97015
END:VEVENT
BEGIN:VEVENT
DTSTART;TZID=America/Los_Angeles:20260504T083000
DTEND;TZID=America/Los_Angeles:20260504T093000
DTSTAMP:20260420T131948
CREATED:20251202T221845Z
LAST-MODIFIED:20251230T192919Z
UID:10000759-1777883400-1777887000@sunnyside4.org
SUMMARY:Monday Morning Prayer
DESCRIPTION:Open to all\, this prayer group happens each Monday at 8:30 AM in the sanctuary. Let’s intercede for our body\, for our city and for the world! We pray over requests from connection cards; we ask for healing over the sick; we praise and thank the Lord as he leads each week. Join us! Questions? Email Randy: randywredeco@hotmail.com.
URL:https://sunnyside4.org/event/monday-morning-prayer-14/2026-05-04/
LOCATION:Sunnyside Church\, 13231 SE Sunnyside Road\, Happy Valley\, Oregon\, 97015
END:VEVENT
BEGIN:VEVENT
DTSTART;TZID=America/Los_Angeles:20260505T070000
DTEND;TZID=America/Los_Angeles:20260505T083000
DTSTAMP:20260420T131948
CREATED:20251202T001917Z
LAST-MODIFIED:20251230T191611Z
UID:10001293-1777964400-1777969800@sunnyside4.org
SUMMARY:Tuesday Men's Bible Study
DESCRIPTION:Men of Sunnyside\, please join us in room 215 for praise\, prayer and the Word!
URL:https://sunnyside4.org/event/tuesday-mens-bible-study/2026-05-05/
LOCATION:Sunnyside Church\, 13231 SE Sunnyside Road\, Happy Valley\, Oregon\, 97015
END:VEVENT
BEGIN:VEVENT
DTSTART;TZID=UTC:20260510T083000
DTEND;TZID=UTC:20260510T093000
DTSTAMP:20260420T131948
CREATED:20260320T212745Z
LAST-MODIFIED:20260323T180305Z
UID:10001846-1778401800-1778405400@sunnyside4.org
SUMMARY:Rooted
DESCRIPTION:
URL:https://sunnyside4.org/event/rooted/2026-05-10/
LOCATION:Sunnyside Church\, 13231 SE Sunnyside Road\, Happy Valley\, Oregon\, 97015
END:VEVENT
BEGIN:VEVENT
DTSTART;TZID=America/Los_Angeles:20260511T083000
DTEND;TZID=America/Los_Angeles:20260511T093000
DTSTAMP:20260420T131948
CREATED:20251202T221845Z
LAST-MODIFIED:20251230T192919Z
UID:10000760-1778488200-1778491800@sunnyside4.org
SUMMARY:Monday Morning Prayer
DESCRIPTION:Open to all\, this prayer group happens each Monday at 8:30 AM in the sanctuary. Let’s intercede for our body\, for our city and for the world! We pray over requests from connection cards; we ask for healing over the sick; we praise and thank the Lord as he leads each week. Join us! Questions? Email Randy: randywredeco@hotmail.com.
URL:https://sunnyside4.org/event/monday-morning-prayer-14/2026-05-11/
LOCATION:Sunnyside Church\, 13231 SE Sunnyside Road\, Happy Valley\, Oregon\, 97015
END:VEVENT
BEGIN:VEVENT
DTSTART;TZID=America/Los_Angeles:20260512T070000
DTEND;TZID=America/Los_Angeles:20260512T083000
DTSTAMP:20260420T131948
CREATED:20251202T001917Z
LAST-MODIFIED:20251230T191611Z
UID:10001294-1778569200-1778574600@sunnyside4.org
SUMMARY:Tuesday Men's Bible Study
DESCRIPTION:Men of Sunnyside\, please join us in room 215 for praise\, prayer and the Word!
URL:https://sunnyside4.org/event/tuesday-mens-bible-study/2026-05-12/
LOCATION:Sunnyside Church\, 13231 SE Sunnyside Road\, Happy Valley\, Oregon\, 97015
END:VEVENT
BEGIN:VEVENT
DTSTART;TZID=UTC:20260517T083000
DTEND;TZID=UTC:20260517T093000
DTSTAMP:20260420T131948
CREATED:20260320T212745Z
LAST-MODIFIED:20260323T180305Z
UID:10001847-1779006600-1779010200@sunnyside4.org
SUMMARY:Rooted
DESCRIPTION:
URL:https://sunnyside4.org/event/rooted/2026-05-17/
LOCATION:Sunnyside Church\, 13231 SE Sunnyside Road\, Happy Valley\, Oregon\, 97015
END:VEVENT
BEGIN:VEVENT
DTSTART;TZID=America/Los_Angeles:20260518T083000
DTEND;TZID=America/Los_Angeles:20260518T093000
DTSTAMP:20260420T131948
CREATED:20251202T221845Z
LAST-MODIFIED:20251230T192919Z
UID:10000761-1779093000-1779096600@sunnyside4.org
SUMMARY:Monday Morning Prayer
DESCRIPTION:Open to all\, this prayer group happens each Monday at 8:30 AM in the sanctuary. Let’s intercede for our body\, for our city and for the world! We pray over requests from connection cards; we ask for healing over the sick; we praise and thank the Lord as he leads each week. Join us! Questions? Email Randy: randywredeco@hotmail.com.
URL:https://sunnyside4.org/event/monday-morning-prayer-14/2026-05-18/
LOCATION:Sunnyside Church\, 13231 SE Sunnyside Road\, Happy Valley\, Oregon\, 97015
END:VEVENT
BEGIN:VEVENT
DTSTART;TZID=America/Los_Angeles:20260519T070000
DTEND;TZID=America/Los_Angeles:20260519T083000
DTSTAMP:20260420T131948
CREATED:20251202T001917Z
LAST-MODIFIED:20251230T191611Z
UID:10001295-1779174000-1779179400@sunnyside4.org
SUMMARY:Tuesday Men's Bible Study
DESCRIPTION:Men of Sunnyside\, please join us in room 215 for praise\, prayer and the Word!
URL:https://sunnyside4.org/event/tuesday-mens-bible-study/2026-05-19/
LOCATION:Sunnyside Church\, 13231 SE Sunnyside Road\, Happy Valley\, Oregon\, 97015
END:VEVENT
BEGIN:VEVENT
DTSTART;TZID=UTC:20260524T083000
DTEND;TZID=UTC:20260524T093000
DTSTAMP:20260420T131948
CREATED:20260320T212745Z
LAST-MODIFIED:20260323T180305Z
UID:10001848-1779611400-1779615000@sunnyside4.org
SUMMARY:Rooted
DESCRIPTION:
URL:https://sunnyside4.org/event/rooted/2026-05-24/
LOCATION:Sunnyside Church\, 13231 SE Sunnyside Road\, Happy Valley\, Oregon\, 97015
END:VEVENT
BEGIN:VEVENT
DTSTART;TZID=America/Los_Angeles:20260525T083000
DTEND;TZID=America/Los_Angeles:20260525T093000
DTSTAMP:20260420T131948
CREATED:20251202T221845Z
LAST-MODIFIED:20251230T192919Z
UID:10000762-1779697800-1779701400@sunnyside4.org
SUMMARY:Monday Morning Prayer
DESCRIPTION:Open to all\, this prayer group happens each Monday at 8:30 AM in the sanctuary. Let’s intercede for our body\, for our city and for the world! We pray over requests from connection cards; we ask for healing over the sick; we praise and thank the Lord as he leads each week. Join us! Questions? Email Randy: randywredeco@hotmail.com.
URL:https://sunnyside4.org/event/monday-morning-prayer-14/2026-05-25/
LOCATION:Sunnyside Church\, 13231 SE Sunnyside Road\, Happy Valley\, Oregon\, 97015
END:VEVENT
BEGIN:VEVENT
DTSTART;TZID=America/Los_Angeles:20260526T070000
DTEND;TZID=America/Los_Angeles:20260526T083000
DTSTAMP:20260420T131948
CREATED:20251202T001917Z
LAST-MODIFIED:20251230T191611Z
UID:10001296-1779778800-1779784200@sunnyside4.org
SUMMARY:Tuesday Men's Bible Study
DESCRIPTION:Men of Sunnyside\, please join us in room 215 for praise\, prayer and the Word!
URL:https://sunnyside4.org/event/tuesday-mens-bible-study/2026-05-26/
LOCATION:Sunnyside Church\, 13231 SE Sunnyside Road\, Happy Valley\, Oregon\, 97015
END:VEVENT
BEGIN:VEVENT
DTSTART;TZID=UTC:20260531T083000
DTEND;TZID=UTC:20260531T093000
DTSTAMP:20260420T131948
CREATED:20260320T212745Z
LAST-MODIFIED:20260323T180305Z
UID:10001849-1780216200-1780219800@sunnyside4.org
SUMMARY:Rooted
DESCRIPTION:
URL:https://sunnyside4.org/event/rooted/2026-05-31/
LOCATION:Sunnyside Church\, 13231 SE Sunnyside Road\, Happy Valley\, Oregon\, 97015
END:VEVENT
BEGIN:VEVENT
DTSTART;TZID=America/Los_Angeles:20260601T083000
DTEND;TZID=America/Los_Angeles:20260601T093000
DTSTAMP:20260420T131948
CREATED:20251202T221845Z
LAST-MODIFIED:20251230T192919Z
UID:10000763-1780302600-1780306200@sunnyside4.org
SUMMARY:Monday Morning Prayer
DESCRIPTION:Open to all\, this prayer group happens each Monday at 8:30 AM in the sanctuary. Let’s intercede for our body\, for our city and for the world! We pray over requests from connection cards; we ask for healing over the sick; we praise and thank the Lord as he leads each week. Join us! Questions? Email Randy: randywredeco@hotmail.com.
URL:https://sunnyside4.org/event/monday-morning-prayer-14/2026-06-01/
LOCATION:Sunnyside Church\, 13231 SE Sunnyside Road\, Happy Valley\, Oregon\, 97015
END:VEVENT
BEGIN:VEVENT
DTSTART;TZID=America/Los_Angeles:20260602T070000
DTEND;TZID=America/Los_Angeles:20260602T083000
DTSTAMP:20260420T131948
CREATED:20251202T001917Z
LAST-MODIFIED:20251230T191611Z
UID:10001297-1780383600-1780389000@sunnyside4.org
SUMMARY:Tuesday Men's Bible Study
DESCRIPTION:Men of Sunnyside\, please join us in room 215 for praise\, prayer and the Word!
URL:https://sunnyside4.org/event/tuesday-mens-bible-study/2026-06-02/
LOCATION:Sunnyside Church\, 13231 SE Sunnyside Road\, Happy Valley\, Oregon\, 97015
END:VEVENT
BEGIN:VEVENT
DTSTART;TZID=America/Los_Angeles:20260608T083000
DTEND;TZID=America/Los_Angeles:20260608T093000
DTSTAMP:20260420T131948
CREATED:20251202T221845Z
LAST-MODIFIED:20251230T192919Z
UID:10000764-1780907400-1780911000@sunnyside4.org
SUMMARY:Monday Morning Prayer
DESCRIPTION:Open to all\, this prayer group happens each Monday at 8:30 AM in the sanctuary. Let’s intercede for our body\, for our city and for the world! We pray over requests from connection cards; we ask for healing over the sick; we praise and thank the Lord as he leads each week. Join us! Questions? Email Randy: randywredeco@hotmail.com.
URL:https://sunnyside4.org/event/monday-morning-prayer-14/2026-06-08/
LOCATION:Sunnyside Church\, 13231 SE Sunnyside Road\, Happy Valley\, Oregon\, 97015
END:VEVENT
BEGIN:VEVENT
DTSTART;TZID=America/Los_Angeles:20260609T070000
DTEND;TZID=America/Los_Angeles:20260609T083000
DTSTAMP:20260420T131948
CREATED:20251202T001917Z
LAST-MODIFIED:20251230T191611Z
UID:10001298-1780988400-1780993800@sunnyside4.org
SUMMARY:Tuesday Men's Bible Study
DESCRIPTION:Men of Sunnyside\, please join us in room 215 for praise\, prayer and the Word!
URL:https://sunnyside4.org/event/tuesday-mens-bible-study/2026-06-09/
LOCATION:Sunnyside Church\, 13231 SE Sunnyside Road\, Happy Valley\, Oregon\, 97015
END:VEVENT
BEGIN:VEVENT
DTSTART;TZID=America/Los_Angeles:20260615T083000
DTEND;TZID=America/Los_Angeles:20260615T093000
DTSTAMP:20260420T131948
CREATED:20251202T221845Z
LAST-MODIFIED:20251230T192919Z
UID:10000765-1781512200-1781515800@sunnyside4.org
SUMMARY:Monday Morning Prayer
DESCRIPTION:Open to all\, this prayer group happens each Monday at 8:30 AM in the sanctuary. Let’s intercede for our body\, for our city and for the world! We pray over requests from connection cards; we ask for healing over the sick; we praise and thank the Lord as he leads each week. Join us! Questions? Email Randy: randywredeco@hotmail.com.
URL:https://sunnyside4.org/event/monday-morning-prayer-14/2026-06-15/
LOCATION:Sunnyside Church\, 13231 SE Sunnyside Road\, Happy Valley\, Oregon\, 97015
END:VEVENT
BEGIN:VEVENT
DTSTART;TZID=America/Los_Angeles:20260616T070000
DTEND;TZID=America/Los_Angeles:20260616T083000
DTSTAMP:20260420T131948
CREATED:20251202T001917Z
LAST-MODIFIED:20251230T191611Z
UID:10001299-1781593200-1781598600@sunnyside4.org
SUMMARY:Tuesday Men's Bible Study
DESCRIPTION:Men of Sunnyside\, please join us in room 215 for praise\, prayer and the Word!
URL:https://sunnyside4.org/event/tuesday-mens-bible-study/2026-06-16/
LOCATION:Sunnyside Church\, 13231 SE Sunnyside Road\, Happy Valley\, Oregon\, 97015
END:VEVENT
BEGIN:VEVENT
DTSTART;TZID=America/Los_Angeles:20260622T083000
DTEND;TZID=America/Los_Angeles:20260622T093000
DTSTAMP:20260420T131948
CREATED:20251202T221845Z
LAST-MODIFIED:20251230T192919Z
UID:10000766-1782117000-1782120600@sunnyside4.org
SUMMARY:Monday Morning Prayer
DESCRIPTION:Open to all\, this prayer group happens each Monday at 8:30 AM in the sanctuary. Let’s intercede for our body\, for our city and for the world! We pray over requests from connection cards; we ask for healing over the sick; we praise and thank the Lord as he leads each week. Join us! Questions? Email Randy: randywredeco@hotmail.com.
URL:https://sunnyside4.org/event/monday-morning-prayer-14/2026-06-22/
LOCATION:Sunnyside Church\, 13231 SE Sunnyside Road\, Happy Valley\, Oregon\, 97015
END:VEVENT
BEGIN:VEVENT
DTSTART;TZID=America/Los_Angeles:20260623T070000
DTEND;TZID=America/Los_Angeles:20260623T083000
DTSTAMP:20260420T131948
CREATED:20251202T001917Z
LAST-MODIFIED:20251230T191611Z
UID:10001300-1782198000-1782203400@sunnyside4.org
SUMMARY:Tuesday Men's Bible Study
DESCRIPTION:Men of Sunnyside\, please join us in room 215 for praise\, prayer and the Word!
URL:https://sunnyside4.org/event/tuesday-mens-bible-study/2026-06-23/
LOCATION:Sunnyside Church\, 13231 SE Sunnyside Road\, Happy Valley\, Oregon\, 97015
END:VEVENT
BEGIN:VEVENT
DTSTART;TZID=America/Los_Angeles:20260629T083000
DTEND;TZID=America/Los_Angeles:20260629T093000
DTSTAMP:20260420T131948
CREATED:20251202T221845Z
LAST-MODIFIED:20251230T192919Z
UID:10000767-1782721800-1782725400@sunnyside4.org
SUMMARY:Monday Morning Prayer
DESCRIPTION:Open to all\, this prayer group happens each Monday at 8:30 AM in the sanctuary. Let’s intercede for our body\, for our city and for the world! We pray over requests from connection cards; we ask for healing over the sick; we praise and thank the Lord as he leads each week. Join us! Questions? Email Randy: randywredeco@hotmail.com.
URL:https://sunnyside4.org/event/monday-morning-prayer-14/2026-06-29/
LOCATION:Sunnyside Church\, 13231 SE Sunnyside Road\, Happy Valley\, Oregon\, 97015
END:VEVENT
BEGIN:VEVENT
DTSTART;TZID=America/Los_Angeles:20260630T070000
DTEND;TZID=America/Los_Angeles:20260630T083000
DTSTAMP:20260420T131948
CREATED:20251202T001917Z
LAST-MODIFIED:20251230T191611Z
UID:10001301-1782802800-1782808200@sunnyside4.org
SUMMARY:Tuesday Men's Bible Study
DESCRIPTION:Men of Sunnyside\, please join us in room 215 for praise\, prayer and the Word!
URL:https://sunnyside4.org/event/tuesday-mens-bible-study/2026-06-30/
LOCATION:Sunnyside Church\, 13231 SE Sunnyside Road\, Happy Valley\, Oregon\, 97015
END:VEVENT
BEGIN:VEVENT
DTSTART;TZID=America/Los_Angeles:20260706T083000
DTEND;TZID=America/Los_Angeles:20260706T093000
DTSTAMP:20260420T131948
CREATED:20251202T221845Z
LAST-MODIFIED:20251230T192919Z
UID:10000768-1783326600-1783330200@sunnyside4.org
SUMMARY:Monday Morning Prayer
DESCRIPTION:Open to all\, this prayer group happens each Monday at 8:30 AM in the sanctuary. Let’s intercede for our body\, for our city and for the world! We pray over requests from connection cards; we ask for healing over the sick; we praise and thank the Lord as he leads each week. Join us! Questions? Email Randy: randywredeco@hotmail.com.
URL:https://sunnyside4.org/event/monday-morning-prayer-14/2026-07-06/
LOCATION:Sunnyside Church\, 13231 SE Sunnyside Road\, Happy Valley\, Oregon\, 97015
END:VEVENT
END:VCALENDAR