BEGIN:VCALENDAR
VERSION:2.0
PRODID:-//Sunnyside Foursquare - ECPv6.15.20//NONSGML v1.0//EN
CALSCALE:GREGORIAN
METHOD:PUBLISH
X-WR-CALNAME:Sunnyside Foursquare
X-ORIGINAL-URL:https://sunnyside4.org
X-WR-CALDESC:Events for Sunnyside Foursquare
REFRESH-INTERVAL;VALUE=DURATION:PT1H
X-Robots-Tag:noindex
X-PUBLISHED-TTL:PT1H
BEGIN:VTIMEZONE
TZID:America/Los_Angeles
BEGIN:DAYLIGHT
TZOFFSETFROM:-0800
TZOFFSETTO:-0700
TZNAME:PDT
DTSTART:20260308T100000
END:DAYLIGHT
BEGIN:STANDARD
TZOFFSETFROM:-0700
TZOFFSETTO:-0800
TZNAME:PST
DTSTART:20261101T090000
END:STANDARD
BEGIN:DAYLIGHT
TZOFFSETFROM:-0800
TZOFFSETTO:-0700
TZNAME:PDT
DTSTART:20270314T100000
END:DAYLIGHT
BEGIN:STANDARD
TZOFFSETFROM:-0700
TZOFFSETTO:-0800
TZNAME:PST
DTSTART:20271107T090000
END:STANDARD
BEGIN:DAYLIGHT
TZOFFSETFROM:-0800
TZOFFSETTO:-0700
TZNAME:PDT
DTSTART:20280312T100000
END:DAYLIGHT
BEGIN:STANDARD
TZOFFSETFROM:-0700
TZOFFSETTO:-0800
TZNAME:PST
DTSTART:20281105T090000
END:STANDARD
END:VTIMEZONE
BEGIN:VEVENT
DTSTART;TZID=America/Los_Angeles:20270524T083000
DTEND;TZID=America/Los_Angeles:20270524T093000
DTSTAMP:20260421T062335
CREATED:20251202T221845Z
LAST-MODIFIED:20251230T192919Z
UID:10000814-1811147400-1811151000@sunnyside4.org
SUMMARY:Monday Morning Prayer
DESCRIPTION:Open to all\, this prayer group happens each Monday at 8:30 AM in the sanctuary. Let’s intercede for our body\, for our city and for the world! We pray over requests from connection cards; we ask for healing over the sick; we praise and thank the Lord as he leads each week. Join us! Questions? Email Randy: randywredeco@hotmail.com.
URL:https://sunnyside4.org/event/monday-morning-prayer-14/2027-05-24/
LOCATION:Sunnyside Church\, 13231 SE Sunnyside Road\, Happy Valley\, Oregon\, 97015
END:VEVENT
BEGIN:VEVENT
DTSTART;TZID=America/Los_Angeles:20270525T070000
DTEND;TZID=America/Los_Angeles:20270525T083000
DTSTAMP:20260421T062335
CREATED:20251202T001917Z
LAST-MODIFIED:20251230T191611Z
UID:10001348-1811228400-1811233800@sunnyside4.org
SUMMARY:Tuesday Men's Bible Study
DESCRIPTION:Men of Sunnyside\, please join us in room 215 for praise\, prayer and the Word!
URL:https://sunnyside4.org/event/tuesday-mens-bible-study/2027-05-25/
LOCATION:Sunnyside Church\, 13231 SE Sunnyside Road\, Happy Valley\, Oregon\, 97015
END:VEVENT
BEGIN:VEVENT
DTSTART;TZID=America/Los_Angeles:20270531T083000
DTEND;TZID=America/Los_Angeles:20270531T093000
DTSTAMP:20260421T062335
CREATED:20251202T221845Z
LAST-MODIFIED:20251230T192919Z
UID:10000815-1811752200-1811755800@sunnyside4.org
SUMMARY:Monday Morning Prayer
DESCRIPTION:Open to all\, this prayer group happens each Monday at 8:30 AM in the sanctuary. Let’s intercede for our body\, for our city and for the world! We pray over requests from connection cards; we ask for healing over the sick; we praise and thank the Lord as he leads each week. Join us! Questions? Email Randy: randywredeco@hotmail.com.
URL:https://sunnyside4.org/event/monday-morning-prayer-14/2027-05-31/
LOCATION:Sunnyside Church\, 13231 SE Sunnyside Road\, Happy Valley\, Oregon\, 97015
END:VEVENT
BEGIN:VEVENT
DTSTART;TZID=America/Los_Angeles:20270601T070000
DTEND;TZID=America/Los_Angeles:20270601T083000
DTSTAMP:20260421T062335
CREATED:20251202T001917Z
LAST-MODIFIED:20251230T191611Z
UID:10001349-1811833200-1811838600@sunnyside4.org
SUMMARY:Tuesday Men's Bible Study
DESCRIPTION:Men of Sunnyside\, please join us in room 215 for praise\, prayer and the Word!
URL:https://sunnyside4.org/event/tuesday-mens-bible-study/2027-06-01/
LOCATION:Sunnyside Church\, 13231 SE Sunnyside Road\, Happy Valley\, Oregon\, 97015
END:VEVENT
BEGIN:VEVENT
DTSTART;TZID=America/Los_Angeles:20270607T083000
DTEND;TZID=America/Los_Angeles:20270607T093000
DTSTAMP:20260421T062335
CREATED:20251202T221845Z
LAST-MODIFIED:20251230T192919Z
UID:10000816-1812357000-1812360600@sunnyside4.org
SUMMARY:Monday Morning Prayer
DESCRIPTION:Open to all\, this prayer group happens each Monday at 8:30 AM in the sanctuary. Let’s intercede for our body\, for our city and for the world! We pray over requests from connection cards; we ask for healing over the sick; we praise and thank the Lord as he leads each week. Join us! Questions? Email Randy: randywredeco@hotmail.com.
URL:https://sunnyside4.org/event/monday-morning-prayer-14/2027-06-07/
LOCATION:Sunnyside Church\, 13231 SE Sunnyside Road\, Happy Valley\, Oregon\, 97015
END:VEVENT
BEGIN:VEVENT
DTSTART;TZID=America/Los_Angeles:20270608T070000
DTEND;TZID=America/Los_Angeles:20270608T083000
DTSTAMP:20260421T062335
CREATED:20251202T001917Z
LAST-MODIFIED:20251230T191611Z
UID:10001350-1812438000-1812443400@sunnyside4.org
SUMMARY:Tuesday Men's Bible Study
DESCRIPTION:Men of Sunnyside\, please join us in room 215 for praise\, prayer and the Word!
URL:https://sunnyside4.org/event/tuesday-mens-bible-study/2027-06-08/
LOCATION:Sunnyside Church\, 13231 SE Sunnyside Road\, Happy Valley\, Oregon\, 97015
END:VEVENT
BEGIN:VEVENT
DTSTART;TZID=America/Los_Angeles:20270614T083000
DTEND;TZID=America/Los_Angeles:20270614T093000
DTSTAMP:20260421T062335
CREATED:20251202T221845Z
LAST-MODIFIED:20251230T192919Z
UID:10000817-1812961800-1812965400@sunnyside4.org
SUMMARY:Monday Morning Prayer
DESCRIPTION:Open to all\, this prayer group happens each Monday at 8:30 AM in the sanctuary. Let’s intercede for our body\, for our city and for the world! We pray over requests from connection cards; we ask for healing over the sick; we praise and thank the Lord as he leads each week. Join us! Questions? Email Randy: randywredeco@hotmail.com.
URL:https://sunnyside4.org/event/monday-morning-prayer-14/2027-06-14/
LOCATION:Sunnyside Church\, 13231 SE Sunnyside Road\, Happy Valley\, Oregon\, 97015
END:VEVENT
BEGIN:VEVENT
DTSTART;TZID=America/Los_Angeles:20270615T070000
DTEND;TZID=America/Los_Angeles:20270615T083000
DTSTAMP:20260421T062335
CREATED:20251202T001917Z
LAST-MODIFIED:20251230T191611Z
UID:10001351-1813042800-1813048200@sunnyside4.org
SUMMARY:Tuesday Men's Bible Study
DESCRIPTION:Men of Sunnyside\, please join us in room 215 for praise\, prayer and the Word!
URL:https://sunnyside4.org/event/tuesday-mens-bible-study/2027-06-15/
LOCATION:Sunnyside Church\, 13231 SE Sunnyside Road\, Happy Valley\, Oregon\, 97015
END:VEVENT
BEGIN:VEVENT
DTSTART;TZID=America/Los_Angeles:20270621T083000
DTEND;TZID=America/Los_Angeles:20270621T093000
DTSTAMP:20260421T062335
CREATED:20251202T221845Z
LAST-MODIFIED:20251230T192919Z
UID:10000818-1813566600-1813570200@sunnyside4.org
SUMMARY:Monday Morning Prayer
DESCRIPTION:Open to all\, this prayer group happens each Monday at 8:30 AM in the sanctuary. Let’s intercede for our body\, for our city and for the world! We pray over requests from connection cards; we ask for healing over the sick; we praise and thank the Lord as he leads each week. Join us! Questions? Email Randy: randywredeco@hotmail.com.
URL:https://sunnyside4.org/event/monday-morning-prayer-14/2027-06-21/
LOCATION:Sunnyside Church\, 13231 SE Sunnyside Road\, Happy Valley\, Oregon\, 97015
END:VEVENT
BEGIN:VEVENT
DTSTART;TZID=America/Los_Angeles:20270622T070000
DTEND;TZID=America/Los_Angeles:20270622T083000
DTSTAMP:20260421T062335
CREATED:20251202T001917Z
LAST-MODIFIED:20251230T191611Z
UID:10001352-1813647600-1813653000@sunnyside4.org
SUMMARY:Tuesday Men's Bible Study
DESCRIPTION:Men of Sunnyside\, please join us in room 215 for praise\, prayer and the Word!
URL:https://sunnyside4.org/event/tuesday-mens-bible-study/2027-06-22/
LOCATION:Sunnyside Church\, 13231 SE Sunnyside Road\, Happy Valley\, Oregon\, 97015
END:VEVENT
BEGIN:VEVENT
DTSTART;TZID=America/Los_Angeles:20270628T083000
DTEND;TZID=America/Los_Angeles:20270628T093000
DTSTAMP:20260421T062335
CREATED:20251202T221845Z
LAST-MODIFIED:20251230T192919Z
UID:10000819-1814171400-1814175000@sunnyside4.org
SUMMARY:Monday Morning Prayer
DESCRIPTION:Open to all\, this prayer group happens each Monday at 8:30 AM in the sanctuary. Let’s intercede for our body\, for our city and for the world! We pray over requests from connection cards; we ask for healing over the sick; we praise and thank the Lord as he leads each week. Join us! Questions? Email Randy: randywredeco@hotmail.com.
URL:https://sunnyside4.org/event/monday-morning-prayer-14/2027-06-28/
LOCATION:Sunnyside Church\, 13231 SE Sunnyside Road\, Happy Valley\, Oregon\, 97015
END:VEVENT
BEGIN:VEVENT
DTSTART;TZID=America/Los_Angeles:20270629T070000
DTEND;TZID=America/Los_Angeles:20270629T083000
DTSTAMP:20260421T062335
CREATED:20251202T001917Z
LAST-MODIFIED:20251230T191611Z
UID:10001353-1814252400-1814257800@sunnyside4.org
SUMMARY:Tuesday Men's Bible Study
DESCRIPTION:Men of Sunnyside\, please join us in room 215 for praise\, prayer and the Word!
URL:https://sunnyside4.org/event/tuesday-mens-bible-study/2027-06-29/
LOCATION:Sunnyside Church\, 13231 SE Sunnyside Road\, Happy Valley\, Oregon\, 97015
END:VEVENT
BEGIN:VEVENT
DTSTART;TZID=America/Los_Angeles:20270705T083000
DTEND;TZID=America/Los_Angeles:20270705T093000
DTSTAMP:20260421T062335
CREATED:20251202T221845Z
LAST-MODIFIED:20251230T192919Z
UID:10000820-1814776200-1814779800@sunnyside4.org
SUMMARY:Monday Morning Prayer
DESCRIPTION:Open to all\, this prayer group happens each Monday at 8:30 AM in the sanctuary. Let’s intercede for our body\, for our city and for the world! We pray over requests from connection cards; we ask for healing over the sick; we praise and thank the Lord as he leads each week. Join us! Questions? Email Randy: randywredeco@hotmail.com.
URL:https://sunnyside4.org/event/monday-morning-prayer-14/2027-07-05/
LOCATION:Sunnyside Church\, 13231 SE Sunnyside Road\, Happy Valley\, Oregon\, 97015
END:VEVENT
BEGIN:VEVENT
DTSTART;TZID=America/Los_Angeles:20270706T070000
DTEND;TZID=America/Los_Angeles:20270706T083000
DTSTAMP:20260421T062335
CREATED:20251202T001917Z
LAST-MODIFIED:20251230T191611Z
UID:10001354-1814857200-1814862600@sunnyside4.org
SUMMARY:Tuesday Men's Bible Study
DESCRIPTION:Men of Sunnyside\, please join us in room 215 for praise\, prayer and the Word!
URL:https://sunnyside4.org/event/tuesday-mens-bible-study/2027-07-06/
LOCATION:Sunnyside Church\, 13231 SE Sunnyside Road\, Happy Valley\, Oregon\, 97015
END:VEVENT
BEGIN:VEVENT
DTSTART;TZID=America/Los_Angeles:20270712T083000
DTEND;TZID=America/Los_Angeles:20270712T093000
DTSTAMP:20260421T062335
CREATED:20251202T221845Z
LAST-MODIFIED:20251230T192919Z
UID:10000821-1815381000-1815384600@sunnyside4.org
SUMMARY:Monday Morning Prayer
DESCRIPTION:Open to all\, this prayer group happens each Monday at 8:30 AM in the sanctuary. Let’s intercede for our body\, for our city and for the world! We pray over requests from connection cards; we ask for healing over the sick; we praise and thank the Lord as he leads each week. Join us! Questions? Email Randy: randywredeco@hotmail.com.
URL:https://sunnyside4.org/event/monday-morning-prayer-14/2027-07-12/
LOCATION:Sunnyside Church\, 13231 SE Sunnyside Road\, Happy Valley\, Oregon\, 97015
END:VEVENT
BEGIN:VEVENT
DTSTART;TZID=America/Los_Angeles:20270713T070000
DTEND;TZID=America/Los_Angeles:20270713T083000
DTSTAMP:20260421T062335
CREATED:20251202T001917Z
LAST-MODIFIED:20251230T191611Z
UID:10001355-1815462000-1815467400@sunnyside4.org
SUMMARY:Tuesday Men's Bible Study
DESCRIPTION:Men of Sunnyside\, please join us in room 215 for praise\, prayer and the Word!
URL:https://sunnyside4.org/event/tuesday-mens-bible-study/2027-07-13/
LOCATION:Sunnyside Church\, 13231 SE Sunnyside Road\, Happy Valley\, Oregon\, 97015
END:VEVENT
BEGIN:VEVENT
DTSTART;TZID=America/Los_Angeles:20270719T083000
DTEND;TZID=America/Los_Angeles:20270719T093000
DTSTAMP:20260421T062335
CREATED:20251202T221845Z
LAST-MODIFIED:20251230T192919Z
UID:10000822-1815985800-1815989400@sunnyside4.org
SUMMARY:Monday Morning Prayer
DESCRIPTION:Open to all\, this prayer group happens each Monday at 8:30 AM in the sanctuary. Let’s intercede for our body\, for our city and for the world! We pray over requests from connection cards; we ask for healing over the sick; we praise and thank the Lord as he leads each week. Join us! Questions? Email Randy: randywredeco@hotmail.com.
URL:https://sunnyside4.org/event/monday-morning-prayer-14/2027-07-19/
LOCATION:Sunnyside Church\, 13231 SE Sunnyside Road\, Happy Valley\, Oregon\, 97015
END:VEVENT
BEGIN:VEVENT
DTSTART;TZID=America/Los_Angeles:20270720T070000
DTEND;TZID=America/Los_Angeles:20270720T083000
DTSTAMP:20260421T062335
CREATED:20251202T001917Z
LAST-MODIFIED:20251230T191611Z
UID:10001356-1816066800-1816072200@sunnyside4.org
SUMMARY:Tuesday Men's Bible Study
DESCRIPTION:Men of Sunnyside\, please join us in room 215 for praise\, prayer and the Word!
URL:https://sunnyside4.org/event/tuesday-mens-bible-study/2027-07-20/
LOCATION:Sunnyside Church\, 13231 SE Sunnyside Road\, Happy Valley\, Oregon\, 97015
END:VEVENT
BEGIN:VEVENT
DTSTART;TZID=America/Los_Angeles:20270726T083000
DTEND;TZID=America/Los_Angeles:20270726T093000
DTSTAMP:20260421T062335
CREATED:20251202T221845Z
LAST-MODIFIED:20251230T192919Z
UID:10000823-1816590600-1816594200@sunnyside4.org
SUMMARY:Monday Morning Prayer
DESCRIPTION:Open to all\, this prayer group happens each Monday at 8:30 AM in the sanctuary. Let’s intercede for our body\, for our city and for the world! We pray over requests from connection cards; we ask for healing over the sick; we praise and thank the Lord as he leads each week. Join us! Questions? Email Randy: randywredeco@hotmail.com.
URL:https://sunnyside4.org/event/monday-morning-prayer-14/2027-07-26/
LOCATION:Sunnyside Church\, 13231 SE Sunnyside Road\, Happy Valley\, Oregon\, 97015
END:VEVENT
BEGIN:VEVENT
DTSTART;TZID=America/Los_Angeles:20270727T070000
DTEND;TZID=America/Los_Angeles:20270727T083000
DTSTAMP:20260421T062335
CREATED:20251202T001917Z
LAST-MODIFIED:20251230T191611Z
UID:10001357-1816671600-1816677000@sunnyside4.org
SUMMARY:Tuesday Men's Bible Study
DESCRIPTION:Men of Sunnyside\, please join us in room 215 for praise\, prayer and the Word!
URL:https://sunnyside4.org/event/tuesday-mens-bible-study/2027-07-27/
LOCATION:Sunnyside Church\, 13231 SE Sunnyside Road\, Happy Valley\, Oregon\, 97015
END:VEVENT
BEGIN:VEVENT
DTSTART;TZID=America/Los_Angeles:20270802T083000
DTEND;TZID=America/Los_Angeles:20270802T093000
DTSTAMP:20260421T062335
CREATED:20251202T221845Z
LAST-MODIFIED:20251230T192919Z
UID:10000824-1817195400-1817199000@sunnyside4.org
SUMMARY:Monday Morning Prayer
DESCRIPTION:Open to all\, this prayer group happens each Monday at 8:30 AM in the sanctuary. Let’s intercede for our body\, for our city and for the world! We pray over requests from connection cards; we ask for healing over the sick; we praise and thank the Lord as he leads each week. Join us! Questions? Email Randy: randywredeco@hotmail.com.
URL:https://sunnyside4.org/event/monday-morning-prayer-14/2027-08-02/
LOCATION:Sunnyside Church\, 13231 SE Sunnyside Road\, Happy Valley\, Oregon\, 97015
END:VEVENT
BEGIN:VEVENT
DTSTART;TZID=America/Los_Angeles:20270803T070000
DTEND;TZID=America/Los_Angeles:20270803T083000
DTSTAMP:20260421T062335
CREATED:20251202T001917Z
LAST-MODIFIED:20251230T191611Z
UID:10001358-1817276400-1817281800@sunnyside4.org
SUMMARY:Tuesday Men's Bible Study
DESCRIPTION:Men of Sunnyside\, please join us in room 215 for praise\, prayer and the Word!
URL:https://sunnyside4.org/event/tuesday-mens-bible-study/2027-08-03/
LOCATION:Sunnyside Church\, 13231 SE Sunnyside Road\, Happy Valley\, Oregon\, 97015
END:VEVENT
BEGIN:VEVENT
DTSTART;TZID=America/Los_Angeles:20270809T083000
DTEND;TZID=America/Los_Angeles:20270809T093000
DTSTAMP:20260421T062335
CREATED:20251202T221845Z
LAST-MODIFIED:20251230T192919Z
UID:10000825-1817800200-1817803800@sunnyside4.org
SUMMARY:Monday Morning Prayer
DESCRIPTION:Open to all\, this prayer group happens each Monday at 8:30 AM in the sanctuary. Let’s intercede for our body\, for our city and for the world! We pray over requests from connection cards; we ask for healing over the sick; we praise and thank the Lord as he leads each week. Join us! Questions? Email Randy: randywredeco@hotmail.com.
URL:https://sunnyside4.org/event/monday-morning-prayer-14/2027-08-09/
LOCATION:Sunnyside Church\, 13231 SE Sunnyside Road\, Happy Valley\, Oregon\, 97015
END:VEVENT
BEGIN:VEVENT
DTSTART;TZID=America/Los_Angeles:20270810T070000
DTEND;TZID=America/Los_Angeles:20270810T083000
DTSTAMP:20260421T062335
CREATED:20251202T001917Z
LAST-MODIFIED:20251230T191611Z
UID:10001359-1817881200-1817886600@sunnyside4.org
SUMMARY:Tuesday Men's Bible Study
DESCRIPTION:Men of Sunnyside\, please join us in room 215 for praise\, prayer and the Word!
URL:https://sunnyside4.org/event/tuesday-mens-bible-study/2027-08-10/
LOCATION:Sunnyside Church\, 13231 SE Sunnyside Road\, Happy Valley\, Oregon\, 97015
END:VEVENT
BEGIN:VEVENT
DTSTART;TZID=America/Los_Angeles:20270816T083000
DTEND;TZID=America/Los_Angeles:20270816T093000
DTSTAMP:20260421T062335
CREATED:20251202T221845Z
LAST-MODIFIED:20251230T192919Z
UID:10000826-1818405000-1818408600@sunnyside4.org
SUMMARY:Monday Morning Prayer
DESCRIPTION:Open to all\, this prayer group happens each Monday at 8:30 AM in the sanctuary. Let’s intercede for our body\, for our city and for the world! We pray over requests from connection cards; we ask for healing over the sick; we praise and thank the Lord as he leads each week. Join us! Questions? Email Randy: randywredeco@hotmail.com.
URL:https://sunnyside4.org/event/monday-morning-prayer-14/2027-08-16/
LOCATION:Sunnyside Church\, 13231 SE Sunnyside Road\, Happy Valley\, Oregon\, 97015
END:VEVENT
BEGIN:VEVENT
DTSTART;TZID=America/Los_Angeles:20270817T070000
DTEND;TZID=America/Los_Angeles:20270817T083000
DTSTAMP:20260421T062335
CREATED:20251202T001917Z
LAST-MODIFIED:20251230T191611Z
UID:10001360-1818486000-1818491400@sunnyside4.org
SUMMARY:Tuesday Men's Bible Study
DESCRIPTION:Men of Sunnyside\, please join us in room 215 for praise\, prayer and the Word!
URL:https://sunnyside4.org/event/tuesday-mens-bible-study/2027-08-17/
LOCATION:Sunnyside Church\, 13231 SE Sunnyside Road\, Happy Valley\, Oregon\, 97015
END:VEVENT
BEGIN:VEVENT
DTSTART;TZID=America/Los_Angeles:20270823T083000
DTEND;TZID=America/Los_Angeles:20270823T093000
DTSTAMP:20260421T062335
CREATED:20251202T221845Z
LAST-MODIFIED:20251230T192919Z
UID:10000827-1819009800-1819013400@sunnyside4.org
SUMMARY:Monday Morning Prayer
DESCRIPTION:Open to all\, this prayer group happens each Monday at 8:30 AM in the sanctuary. Let’s intercede for our body\, for our city and for the world! We pray over requests from connection cards; we ask for healing over the sick; we praise and thank the Lord as he leads each week. Join us! Questions? Email Randy: randywredeco@hotmail.com.
URL:https://sunnyside4.org/event/monday-morning-prayer-14/2027-08-23/
LOCATION:Sunnyside Church\, 13231 SE Sunnyside Road\, Happy Valley\, Oregon\, 97015
END:VEVENT
BEGIN:VEVENT
DTSTART;TZID=America/Los_Angeles:20270824T070000
DTEND;TZID=America/Los_Angeles:20270824T083000
DTSTAMP:20260421T062335
CREATED:20251202T001917Z
LAST-MODIFIED:20251230T191611Z
UID:10001361-1819090800-1819096200@sunnyside4.org
SUMMARY:Tuesday Men's Bible Study
DESCRIPTION:Men of Sunnyside\, please join us in room 215 for praise\, prayer and the Word!
URL:https://sunnyside4.org/event/tuesday-mens-bible-study/2027-08-24/
LOCATION:Sunnyside Church\, 13231 SE Sunnyside Road\, Happy Valley\, Oregon\, 97015
END:VEVENT
BEGIN:VEVENT
DTSTART;TZID=America/Los_Angeles:20270830T083000
DTEND;TZID=America/Los_Angeles:20270830T093000
DTSTAMP:20260421T062335
CREATED:20251202T221845Z
LAST-MODIFIED:20251230T192919Z
UID:10000828-1819614600-1819618200@sunnyside4.org
SUMMARY:Monday Morning Prayer
DESCRIPTION:Open to all\, this prayer group happens each Monday at 8:30 AM in the sanctuary. Let’s intercede for our body\, for our city and for the world! We pray over requests from connection cards; we ask for healing over the sick; we praise and thank the Lord as he leads each week. Join us! Questions? Email Randy: randywredeco@hotmail.com.
URL:https://sunnyside4.org/event/monday-morning-prayer-14/2027-08-30/
LOCATION:Sunnyside Church\, 13231 SE Sunnyside Road\, Happy Valley\, Oregon\, 97015
END:VEVENT
BEGIN:VEVENT
DTSTART;TZID=America/Los_Angeles:20270831T070000
DTEND;TZID=America/Los_Angeles:20270831T083000
DTSTAMP:20260421T062335
CREATED:20251202T001917Z
LAST-MODIFIED:20251230T191611Z
UID:10001362-1819695600-1819701000@sunnyside4.org
SUMMARY:Tuesday Men's Bible Study
DESCRIPTION:Men of Sunnyside\, please join us in room 215 for praise\, prayer and the Word!
URL:https://sunnyside4.org/event/tuesday-mens-bible-study/2027-08-31/
LOCATION:Sunnyside Church\, 13231 SE Sunnyside Road\, Happy Valley\, Oregon\, 97015
END:VEVENT
END:VCALENDAR