BEGIN:VCALENDAR
VERSION:2.0
PRODID:-//Sunnyside Foursquare - ECPv6.15.20//NONSGML v1.0//EN
CALSCALE:GREGORIAN
METHOD:PUBLISH
X-ORIGINAL-URL:https://sunnyside4.org
X-WR-CALDESC:Events for Sunnyside Foursquare
REFRESH-INTERVAL;VALUE=DURATION:PT1H
X-Robots-Tag:noindex
X-PUBLISHED-TTL:PT1H
BEGIN:VTIMEZONE
TZID:UTC
BEGIN:STANDARD
TZOFFSETFROM:+0000
TZOFFSETTO:+0000
TZNAME:UTC
DTSTART:20250101T000000
END:STANDARD
END:VTIMEZONE
BEGIN:VTIMEZONE
TZID:America/Los_Angeles
BEGIN:DAYLIGHT
TZOFFSETFROM:-0800
TZOFFSETTO:-0700
TZNAME:PDT
DTSTART:20250309T100000
END:DAYLIGHT
BEGIN:STANDARD
TZOFFSETFROM:-0700
TZOFFSETTO:-0800
TZNAME:PST
DTSTART:20251102T090000
END:STANDARD
BEGIN:DAYLIGHT
TZOFFSETFROM:-0800
TZOFFSETTO:-0700
TZNAME:PDT
DTSTART:20260308T100000
END:DAYLIGHT
BEGIN:STANDARD
TZOFFSETFROM:-0700
TZOFFSETTO:-0800
TZNAME:PST
DTSTART:20261101T090000
END:STANDARD
BEGIN:DAYLIGHT
TZOFFSETFROM:-0800
TZOFFSETTO:-0700
TZNAME:PDT
DTSTART:20270314T100000
END:DAYLIGHT
BEGIN:STANDARD
TZOFFSETFROM:-0700
TZOFFSETTO:-0800
TZNAME:PST
DTSTART:20271107T090000
END:STANDARD
END:VTIMEZONE
BEGIN:VEVENT
DTSTART;TZID=UTC:20260324T180000
DTEND;TZID=UTC:20260324T200000
DTSTAMP:20260420T162653
CREATED:20260114T223529Z
LAST-MODIFIED:20260127T230750Z
UID:10001816-1774375200-1774382400@sunnyside4.org
SUMMARY:Genesis Process
DESCRIPTION:Please join us for The Genesis Process! This curriculum provides us with a biblical and neurochemical understanding of what causes our self-destruction and a real plan for lasting change. Buy your workbook for $32 here. See you in Room 215 at 6PM!
URL:https://sunnyside4.org/event/genesis-process/2026-03-24/
LOCATION:Sunnyside Church\, 13231 SE Sunnyside Road\, Happy Valley\, Oregon\, 97015
END:VEVENT
BEGIN:VEVENT
DTSTART;TZID=America/Los_Angeles:20260324T070000
DTEND;TZID=America/Los_Angeles:20260324T083000
DTSTAMP:20260420T162653
CREATED:20251202T001917Z
LAST-MODIFIED:20251230T191611Z
UID:10001287-1774335600-1774341000@sunnyside4.org
SUMMARY:Tuesday Men's Bible Study
DESCRIPTION:Men of Sunnyside\, please join us in room 215 for praise\, prayer and the Word!
URL:https://sunnyside4.org/event/tuesday-mens-bible-study/2026-03-24/
LOCATION:Sunnyside Church\, 13231 SE Sunnyside Road\, Happy Valley\, Oregon\, 97015
END:VEVENT
BEGIN:VEVENT
DTSTART;TZID=America/Los_Angeles:20260323T083000
DTEND;TZID=America/Los_Angeles:20260323T093000
DTSTAMP:20260420T162653
CREATED:20251202T221845Z
LAST-MODIFIED:20251230T192919Z
UID:10000753-1774254600-1774258200@sunnyside4.org
SUMMARY:Monday Morning Prayer
DESCRIPTION:Open to all\, this prayer group happens each Monday at 8:30 AM in the sanctuary. Let’s intercede for our body\, for our city and for the world! We pray over requests from connection cards; we ask for healing over the sick; we praise and thank the Lord as he leads each week. Join us! Questions? Email Randy: randywredeco@hotmail.com.
URL:https://sunnyside4.org/event/monday-morning-prayer-14/2026-03-23/
LOCATION:Sunnyside Church\, 13231 SE Sunnyside Road\, Happy Valley\, Oregon\, 97015
END:VEVENT
BEGIN:VEVENT
DTSTART;TZID=UTC:20260317T180000
DTEND;TZID=UTC:20260317T200000
DTSTAMP:20260420T162653
CREATED:20260114T223529Z
LAST-MODIFIED:20260127T230750Z
UID:10001815-1773770400-1773777600@sunnyside4.org
SUMMARY:Genesis Process
DESCRIPTION:Please join us for The Genesis Process! This curriculum provides us with a biblical and neurochemical understanding of what causes our self-destruction and a real plan for lasting change. Buy your workbook for $32 here. See you in Room 215 at 6PM!
URL:https://sunnyside4.org/event/genesis-process/2026-03-17/
LOCATION:Sunnyside Church\, 13231 SE Sunnyside Road\, Happy Valley\, Oregon\, 97015
END:VEVENT
BEGIN:VEVENT
DTSTART;TZID=America/Los_Angeles:20260317T070000
DTEND;TZID=America/Los_Angeles:20260317T083000
DTSTAMP:20260420T162653
CREATED:20251202T001917Z
LAST-MODIFIED:20251230T191611Z
UID:10001286-1773730800-1773736200@sunnyside4.org
SUMMARY:Tuesday Men's Bible Study
DESCRIPTION:Men of Sunnyside\, please join us in room 215 for praise\, prayer and the Word!
URL:https://sunnyside4.org/event/tuesday-mens-bible-study/2026-03-17/
LOCATION:Sunnyside Church\, 13231 SE Sunnyside Road\, Happy Valley\, Oregon\, 97015
END:VEVENT
BEGIN:VEVENT
DTSTART;TZID=America/Los_Angeles:20260316T083000
DTEND;TZID=America/Los_Angeles:20260316T093000
DTSTAMP:20260420T162653
CREATED:20251202T221845Z
LAST-MODIFIED:20251230T192919Z
UID:10000752-1773649800-1773653400@sunnyside4.org
SUMMARY:Monday Morning Prayer
DESCRIPTION:Open to all\, this prayer group happens each Monday at 8:30 AM in the sanctuary. Let’s intercede for our body\, for our city and for the world! We pray over requests from connection cards; we ask for healing over the sick; we praise and thank the Lord as he leads each week. Join us! Questions? Email Randy: randywredeco@hotmail.com.
URL:https://sunnyside4.org/event/monday-morning-prayer-14/2026-03-16/
LOCATION:Sunnyside Church\, 13231 SE Sunnyside Road\, Happy Valley\, Oregon\, 97015
END:VEVENT
BEGIN:VEVENT
DTSTART;TZID=UTC:20260314T090000
DTEND;TZID=UTC:20260314T130000
DTSTAMP:20260420T162653
CREATED:20260310T224112Z
LAST-MODIFIED:20260310T224210Z
UID:10001830-1773478800-1773493200@sunnyside4.org
SUMMARY:Sunnyside Clean Up
DESCRIPTION:Meet at the church on Saturday with your gloves and hand tools\, rakes or shovels. Lunch is provided!
URL:https://sunnyside4.org/event/sunnyside-clean-up/
LOCATION:Sunnyside Church\, 13231 SE Sunnyside Road\, Happy Valley\, Oregon\, 97015
END:VEVENT
BEGIN:VEVENT
DTSTART;TZID=UTC:20260313T180000
DTEND;TZID=UTC:20260313T200000
DTSTAMP:20260420T162653
CREATED:20260310T223345Z
LAST-MODIFIED:20260310T223908Z
UID:10001829-1773424800-1773432000@sunnyside4.org
SUMMARY:Women's Game Night - Sunnyside Room
DESCRIPTION:
URL:https://sunnyside4.org/event/womens-game-night-2/
LOCATION:Sunnyside Church\, 13231 SE Sunnyside Road\, Happy Valley\, Oregon\, 97015
END:VEVENT
BEGIN:VEVENT
DTSTART;TZID=UTC:20260310T180000
DTEND;TZID=UTC:20260310T200000
DTSTAMP:20260420T162653
CREATED:20260114T223529Z
LAST-MODIFIED:20260127T230750Z
UID:10001814-1773165600-1773172800@sunnyside4.org
SUMMARY:Genesis Process
DESCRIPTION:Please join us for The Genesis Process! This curriculum provides us with a biblical and neurochemical understanding of what causes our self-destruction and a real plan for lasting change. Buy your workbook for $32 here. See you in Room 215 at 6PM!
URL:https://sunnyside4.org/event/genesis-process/2026-03-10/
LOCATION:Sunnyside Church\, 13231 SE Sunnyside Road\, Happy Valley\, Oregon\, 97015
END:VEVENT
BEGIN:VEVENT
DTSTART;TZID=America/Los_Angeles:20260310T070000
DTEND;TZID=America/Los_Angeles:20260310T083000
DTSTAMP:20260420T162653
CREATED:20251202T001917Z
LAST-MODIFIED:20251230T191611Z
UID:10001285-1773126000-1773131400@sunnyside4.org
SUMMARY:Tuesday Men's Bible Study
DESCRIPTION:Men of Sunnyside\, please join us in room 215 for praise\, prayer and the Word!
URL:https://sunnyside4.org/event/tuesday-mens-bible-study/2026-03-10/
LOCATION:Sunnyside Church\, 13231 SE Sunnyside Road\, Happy Valley\, Oregon\, 97015
END:VEVENT
BEGIN:VEVENT
DTSTART;TZID=America/Los_Angeles:20260309T083000
DTEND;TZID=America/Los_Angeles:20260309T093000
DTSTAMP:20260420T162653
CREATED:20251202T221845Z
LAST-MODIFIED:20251230T192919Z
UID:10000751-1773045000-1773048600@sunnyside4.org
SUMMARY:Monday Morning Prayer
DESCRIPTION:Open to all\, this prayer group happens each Monday at 8:30 AM in the sanctuary. Let’s intercede for our body\, for our city and for the world! We pray over requests from connection cards; we ask for healing over the sick; we praise and thank the Lord as he leads each week. Join us! Questions? Email Randy: randywredeco@hotmail.com.
URL:https://sunnyside4.org/event/monday-morning-prayer-14/2026-03-09/
LOCATION:Sunnyside Church\, 13231 SE Sunnyside Road\, Happy Valley\, Oregon\, 97015
END:VEVENT
BEGIN:VEVENT
DTSTART;TZID=UTC:20260304T180000
DTEND;TZID=UTC:20260304T200000
DTSTAMP:20260420T162653
CREATED:20260114T224423Z
LAST-MODIFIED:20260114T224423Z
UID:10001825-1772647200-1772654400@sunnyside4.org
SUMMARY:Women's Bible Study
DESCRIPTION:All women of Sunnyside are invited to this study using the book Don’t Look Back by Christine Cain. Please purchase this on Amazon here. We’ll meet in Room 215 from 6-8PM and discuss what it looks like to move forward with passion and purpose from the Lord.
URL:https://sunnyside4.org/event/womens-bible-study/2026-03-04/
LOCATION:Sunnyside Church\, 13231 SE Sunnyside Road\, Happy Valley\, Oregon\, 97015
END:VEVENT
BEGIN:VEVENT
DTSTART;TZID=UTC:20260303T180000
DTEND;TZID=UTC:20260303T200000
DTSTAMP:20260420T162653
CREATED:20260114T223529Z
LAST-MODIFIED:20260127T230750Z
UID:10001813-1772560800-1772568000@sunnyside4.org
SUMMARY:Genesis Process
DESCRIPTION:Please join us for The Genesis Process! This curriculum provides us with a biblical and neurochemical understanding of what causes our self-destruction and a real plan for lasting change. Buy your workbook for $32 here. See you in Room 215 at 6PM!
URL:https://sunnyside4.org/event/genesis-process/2026-03-03/
LOCATION:Sunnyside Church\, 13231 SE Sunnyside Road\, Happy Valley\, Oregon\, 97015
END:VEVENT
BEGIN:VEVENT
DTSTART;TZID=America/Los_Angeles:20260303T070000
DTEND;TZID=America/Los_Angeles:20260303T083000
DTSTAMP:20260420T162653
CREATED:20251202T001917Z
LAST-MODIFIED:20251230T191611Z
UID:10001284-1772521200-1772526600@sunnyside4.org
SUMMARY:Tuesday Men's Bible Study
DESCRIPTION:Men of Sunnyside\, please join us in room 215 for praise\, prayer and the Word!
URL:https://sunnyside4.org/event/tuesday-mens-bible-study/2026-03-03/
LOCATION:Sunnyside Church\, 13231 SE Sunnyside Road\, Happy Valley\, Oregon\, 97015
END:VEVENT
BEGIN:VEVENT
DTSTART;TZID=America/Los_Angeles:20260302T083000
DTEND;TZID=America/Los_Angeles:20260302T093000
DTSTAMP:20260420T162653
CREATED:20251202T221845Z
LAST-MODIFIED:20251230T192919Z
UID:10000750-1772440200-1772443800@sunnyside4.org
SUMMARY:Monday Morning Prayer
DESCRIPTION:Open to all\, this prayer group happens each Monday at 8:30 AM in the sanctuary. Let’s intercede for our body\, for our city and for the world! We pray over requests from connection cards; we ask for healing over the sick; we praise and thank the Lord as he leads each week. Join us! Questions? Email Randy: randywredeco@hotmail.com.
URL:https://sunnyside4.org/event/monday-morning-prayer-14/2026-03-02/
LOCATION:Sunnyside Church\, 13231 SE Sunnyside Road\, Happy Valley\, Oregon\, 97015
END:VEVENT
BEGIN:VEVENT
DTSTART;TZID=UTC:20260225T180000
DTEND;TZID=UTC:20260225T200000
DTSTAMP:20260420T162653
CREATED:20260114T224423Z
LAST-MODIFIED:20260114T224423Z
UID:10001824-1772042400-1772049600@sunnyside4.org
SUMMARY:Women's Bible Study
DESCRIPTION:All women of Sunnyside are invited to this study using the book Don’t Look Back by Christine Cain. Please purchase this on Amazon here. We’ll meet in Room 215 from 6-8PM and discuss what it looks like to move forward with passion and purpose from the Lord.
URL:https://sunnyside4.org/event/womens-bible-study/2026-02-25/
LOCATION:Sunnyside Church\, 13231 SE Sunnyside Road\, Happy Valley\, Oregon\, 97015
END:VEVENT
BEGIN:VEVENT
DTSTART;TZID=UTC:20260224T180000
DTEND;TZID=UTC:20260224T200000
DTSTAMP:20260420T162653
CREATED:20260114T223529Z
LAST-MODIFIED:20260127T230750Z
UID:10001812-1771956000-1771963200@sunnyside4.org
SUMMARY:Genesis Process
DESCRIPTION:Please join us for The Genesis Process! This curriculum provides us with a biblical and neurochemical understanding of what causes our self-destruction and a real plan for lasting change. Buy your workbook for $32 here. See you in Room 215 at 6PM!
URL:https://sunnyside4.org/event/genesis-process/2026-02-24/
LOCATION:Sunnyside Church\, 13231 SE Sunnyside Road\, Happy Valley\, Oregon\, 97015
END:VEVENT
BEGIN:VEVENT
DTSTART;TZID=America/Los_Angeles:20260224T070000
DTEND;TZID=America/Los_Angeles:20260224T083000
DTSTAMP:20260420T162653
CREATED:20251202T001917Z
LAST-MODIFIED:20251230T191611Z
UID:10001283-1771916400-1771921800@sunnyside4.org
SUMMARY:Tuesday Men's Bible Study
DESCRIPTION:Men of Sunnyside\, please join us in room 215 for praise\, prayer and the Word!
URL:https://sunnyside4.org/event/tuesday-mens-bible-study/2026-02-24/
LOCATION:Sunnyside Church\, 13231 SE Sunnyside Road\, Happy Valley\, Oregon\, 97015
END:VEVENT
BEGIN:VEVENT
DTSTART;TZID=America/Los_Angeles:20260223T083000
DTEND;TZID=America/Los_Angeles:20260223T093000
DTSTAMP:20260420T162653
CREATED:20251202T221845Z
LAST-MODIFIED:20251230T192919Z
UID:10000749-1771835400-1771839000@sunnyside4.org
SUMMARY:Monday Morning Prayer
DESCRIPTION:Open to all\, this prayer group happens each Monday at 8:30 AM in the sanctuary. Let’s intercede for our body\, for our city and for the world! We pray over requests from connection cards; we ask for healing over the sick; we praise and thank the Lord as he leads each week. Join us! Questions? Email Randy: randywredeco@hotmail.com.
URL:https://sunnyside4.org/event/monday-morning-prayer-14/2026-02-23/
LOCATION:Sunnyside Church\, 13231 SE Sunnyside Road\, Happy Valley\, Oregon\, 97015
END:VEVENT
BEGIN:VEVENT
DTSTART;TZID=UTC:20260222T113000
DTEND;TZID=UTC:20260222T123000
DTSTAMP:20260420T162653
CREATED:20260114T224658Z
LAST-MODIFIED:20260114T224658Z
UID:10001826-1771759800-1771763400@sunnyside4.org
SUMMARY:Volunteer Appreciation
DESCRIPTION:Volunteer Appreciation Lunch in the Youth Center after service! Please enjoy our thanks as you eat together. We have a short program for you!
URL:https://sunnyside4.org/event/volunteer-appreciation/
LOCATION:Sunnyside Church\, 13231 SE Sunnyside Road\, Happy Valley\, Oregon\, 97015
END:VEVENT
BEGIN:VEVENT
DTSTART;TZID=UTC:20260218T180000
DTEND;TZID=UTC:20260218T200000
DTSTAMP:20260420T162653
CREATED:20260114T224423Z
LAST-MODIFIED:20260114T224423Z
UID:10001823-1771437600-1771444800@sunnyside4.org
SUMMARY:Women's Bible Study
DESCRIPTION:All women of Sunnyside are invited to this study using the book Don’t Look Back by Christine Cain. Please purchase this on Amazon here. We’ll meet in Room 215 from 6-8PM and discuss what it looks like to move forward with passion and purpose from the Lord.
URL:https://sunnyside4.org/event/womens-bible-study/2026-02-18/
LOCATION:Sunnyside Church\, 13231 SE Sunnyside Road\, Happy Valley\, Oregon\, 97015
END:VEVENT
BEGIN:VEVENT
DTSTART;TZID=UTC:20260217T180000
DTEND;TZID=UTC:20260217T200000
DTSTAMP:20260420T162653
CREATED:20260114T223529Z
LAST-MODIFIED:20260127T230750Z
UID:10001811-1771351200-1771358400@sunnyside4.org
SUMMARY:Genesis Process
DESCRIPTION:Please join us for The Genesis Process! This curriculum provides us with a biblical and neurochemical understanding of what causes our self-destruction and a real plan for lasting change. Buy your workbook for $32 here. See you in Room 215 at 6PM!
URL:https://sunnyside4.org/event/genesis-process/2026-02-17/
LOCATION:Sunnyside Church\, 13231 SE Sunnyside Road\, Happy Valley\, Oregon\, 97015
END:VEVENT
BEGIN:VEVENT
DTSTART;TZID=America/Los_Angeles:20260217T070000
DTEND;TZID=America/Los_Angeles:20260217T083000
DTSTAMP:20260420T162653
CREATED:20251202T001917Z
LAST-MODIFIED:20251230T191611Z
UID:10001282-1771311600-1771317000@sunnyside4.org
SUMMARY:Tuesday Men's Bible Study
DESCRIPTION:Men of Sunnyside\, please join us in room 215 for praise\, prayer and the Word!
URL:https://sunnyside4.org/event/tuesday-mens-bible-study/2026-02-17/
LOCATION:Sunnyside Church\, 13231 SE Sunnyside Road\, Happy Valley\, Oregon\, 97015
END:VEVENT
BEGIN:VEVENT
DTSTART;TZID=America/Los_Angeles:20260216T083000
DTEND;TZID=America/Los_Angeles:20260216T093000
DTSTAMP:20260420T162653
CREATED:20251202T221845Z
LAST-MODIFIED:20251230T192919Z
UID:10000748-1771230600-1771234200@sunnyside4.org
SUMMARY:Monday Morning Prayer
DESCRIPTION:Open to all\, this prayer group happens each Monday at 8:30 AM in the sanctuary. Let’s intercede for our body\, for our city and for the world! We pray over requests from connection cards; we ask for healing over the sick; we praise and thank the Lord as he leads each week. Join us! Questions? Email Randy: randywredeco@hotmail.com.
URL:https://sunnyside4.org/event/monday-morning-prayer-14/2026-02-16/
LOCATION:Sunnyside Church\, 13231 SE Sunnyside Road\, Happy Valley\, Oregon\, 97015
END:VEVENT
BEGIN:VEVENT
DTSTART;TZID=UTC:20260211T180000
DTEND;TZID=UTC:20260211T200000
DTSTAMP:20260420T162653
CREATED:20260114T224423Z
LAST-MODIFIED:20260114T224423Z
UID:10001822-1770832800-1770840000@sunnyside4.org
SUMMARY:Women's Bible Study
DESCRIPTION:All women of Sunnyside are invited to this study using the book Don’t Look Back by Christine Cain. Please purchase this on Amazon here. We’ll meet in Room 215 from 6-8PM and discuss what it looks like to move forward with passion and purpose from the Lord.
URL:https://sunnyside4.org/event/womens-bible-study/2026-02-11/
LOCATION:Sunnyside Church\, 13231 SE Sunnyside Road\, Happy Valley\, Oregon\, 97015
END:VEVENT
BEGIN:VEVENT
DTSTART;TZID=UTC:20260210T180000
DTEND;TZID=UTC:20260210T200000
DTSTAMP:20260420T162653
CREATED:20260127T171731Z
LAST-MODIFIED:20260127T230338Z
UID:10001810-1770746400-1770753600@sunnyside4.org
SUMMARY:Genesis Process
DESCRIPTION:Please join us for The Genesis Process! This curriculum provides us with a biblical and neurochemical understanding of what causes our self-destruction and a real plan for lasting change. Buy your workbook for $32 here. See you in Room 215 at 6PM!
URL:https://sunnyside4.org/event/genesis-process-3/
LOCATION:Sunnyside Church\, 13231 SE Sunnyside Road\, Happy Valley\, Oregon\, 97015
ATTACH;FMTTYPE=image/png:https://sunnyside4.org/wp-content/uploads/2026/01/2026-Genesis-Process.png
END:VEVENT
BEGIN:VEVENT
DTSTART;TZID=America/Los_Angeles:20260210T070000
DTEND;TZID=America/Los_Angeles:20260210T083000
DTSTAMP:20260420T162653
CREATED:20251202T001917Z
LAST-MODIFIED:20251230T191611Z
UID:10001281-1770706800-1770712200@sunnyside4.org
SUMMARY:Tuesday Men's Bible Study
DESCRIPTION:Men of Sunnyside\, please join us in room 215 for praise\, prayer and the Word!
URL:https://sunnyside4.org/event/tuesday-mens-bible-study/2026-02-10/
LOCATION:Sunnyside Church\, 13231 SE Sunnyside Road\, Happy Valley\, Oregon\, 97015
END:VEVENT
BEGIN:VEVENT
DTSTART;TZID=America/Los_Angeles:20260209T083000
DTEND;TZID=America/Los_Angeles:20260209T093000
DTSTAMP:20260420T162653
CREATED:20251202T221845Z
LAST-MODIFIED:20251230T192919Z
UID:10000747-1770625800-1770629400@sunnyside4.org
SUMMARY:Monday Morning Prayer
DESCRIPTION:Open to all\, this prayer group happens each Monday at 8:30 AM in the sanctuary. Let’s intercede for our body\, for our city and for the world! We pray over requests from connection cards; we ask for healing over the sick; we praise and thank the Lord as he leads each week. Join us! Questions? Email Randy: randywredeco@hotmail.com.
URL:https://sunnyside4.org/event/monday-morning-prayer-14/2026-02-09/
LOCATION:Sunnyside Church\, 13231 SE Sunnyside Road\, Happy Valley\, Oregon\, 97015
END:VEVENT
BEGIN:VEVENT
DTSTART;TZID=UTC:20260208T100000
DTEND;TZID=UTC:20260208T111500
DTSTAMP:20260420T162653
CREATED:20260112T235720Z
LAST-MODIFIED:20260112T235720Z
UID:10001804-1770544800-1770549300@sunnyside4.org
SUMMARY:Baptisms
DESCRIPTION:We will have a baptism during our normal Sunday service for those who have decided to make their love for Jesus public. If it is your desire to participate and get baptized\, please speak with a staff member before this Sunday so we can properly prepare you for the morning.
URL:https://sunnyside4.org/event/baptisms/
LOCATION:Sunnyside Church\, 13231 SE Sunnyside Road\, Happy Valley\, Oregon\, 97015
END:VEVENT
BEGIN:VEVENT
DTSTART;TZID=UTC:20260204T180000
DTEND;TZID=UTC:20260204T200000
DTSTAMP:20260420T162653
CREATED:20260114T224423Z
LAST-MODIFIED:20260114T224423Z
UID:10001821-1770228000-1770235200@sunnyside4.org
SUMMARY:Women's Bible Study
DESCRIPTION:All women of Sunnyside are invited to this study using the book Don’t Look Back by Christine Cain. Please purchase this on Amazon here. We’ll meet in Room 215 from 6-8PM and discuss what it looks like to move forward with passion and purpose from the Lord.
URL:https://sunnyside4.org/event/womens-bible-study/2026-02-04/
LOCATION:Sunnyside Church\, 13231 SE Sunnyside Road\, Happy Valley\, Oregon\, 97015
END:VEVENT
END:VCALENDAR