BEGIN:VCALENDAR
VERSION:2.0
PRODID:-//Sunnyside Foursquare - ECPv6.15.20//NONSGML v1.0//EN
CALSCALE:GREGORIAN
METHOD:PUBLISH
X-WR-CALNAME:Sunnyside Foursquare
X-ORIGINAL-URL:https://sunnyside4.org
X-WR-CALDESC:Events for Sunnyside Foursquare
REFRESH-INTERVAL;VALUE=DURATION:PT1H
X-Robots-Tag:noindex
X-PUBLISHED-TTL:PT1H
BEGIN:VTIMEZONE
TZID:America/Los_Angeles
BEGIN:DAYLIGHT
TZOFFSETFROM:-0800
TZOFFSETTO:-0700
TZNAME:PDT
DTSTART:20280312T100000
END:DAYLIGHT
BEGIN:STANDARD
TZOFFSETFROM:-0700
TZOFFSETTO:-0800
TZNAME:PST
DTSTART:20281105T090000
END:STANDARD
BEGIN:DAYLIGHT
TZOFFSETFROM:-0800
TZOFFSETTO:-0700
TZNAME:PDT
DTSTART:20290311T100000
END:DAYLIGHT
BEGIN:STANDARD
TZOFFSETFROM:-0700
TZOFFSETTO:-0800
TZNAME:PST
DTSTART:20291104T090000
END:STANDARD
BEGIN:DAYLIGHT
TZOFFSETFROM:-0800
TZOFFSETTO:-0700
TZNAME:PDT
DTSTART:20300310T100000
END:DAYLIGHT
BEGIN:STANDARD
TZOFFSETFROM:-0700
TZOFFSETTO:-0800
TZNAME:PST
DTSTART:20301103T090000
END:STANDARD
END:VTIMEZONE
BEGIN:VEVENT
DTSTART;TZID=America/Los_Angeles:20290108T083000
DTEND;TZID=America/Los_Angeles:20290108T093000
DTSTAMP:20260424T033117
CREATED:20251202T221845Z
LAST-MODIFIED:20251230T192919Z
UID:10000899-1862555400-1862559000@sunnyside4.org
SUMMARY:Monday Morning Prayer
DESCRIPTION:Open to all\, this prayer group happens each Monday at 8:30 AM in the sanctuary. Let’s intercede for our body\, for our city and for the world! We pray over requests from connection cards; we ask for healing over the sick; we praise and thank the Lord as he leads each week. Join us! Questions? Email Randy: randywredeco@hotmail.com.
URL:https://sunnyside4.org/event/monday-morning-prayer-14/2029-01-08/
LOCATION:Sunnyside Church\, 13231 SE Sunnyside Road\, Happy Valley\, Oregon\, 97015
END:VEVENT
BEGIN:VEVENT
DTSTART;TZID=America/Los_Angeles:20290109T070000
DTEND;TZID=America/Los_Angeles:20290109T083000
DTSTAMP:20260424T033117
CREATED:20251202T001917Z
LAST-MODIFIED:20251230T191611Z
UID:10001433-1862636400-1862641800@sunnyside4.org
SUMMARY:Tuesday Men's Bible Study
DESCRIPTION:Men of Sunnyside\, please join us in room 215 for praise\, prayer and the Word!
URL:https://sunnyside4.org/event/tuesday-mens-bible-study/2029-01-09/
LOCATION:Sunnyside Church\, 13231 SE Sunnyside Road\, Happy Valley\, Oregon\, 97015
END:VEVENT
BEGIN:VEVENT
DTSTART;TZID=America/Los_Angeles:20290115T083000
DTEND;TZID=America/Los_Angeles:20290115T093000
DTSTAMP:20260424T033117
CREATED:20251202T221845Z
LAST-MODIFIED:20251230T192919Z
UID:10000900-1863160200-1863163800@sunnyside4.org
SUMMARY:Monday Morning Prayer
DESCRIPTION:Open to all\, this prayer group happens each Monday at 8:30 AM in the sanctuary. Let’s intercede for our body\, for our city and for the world! We pray over requests from connection cards; we ask for healing over the sick; we praise and thank the Lord as he leads each week. Join us! Questions? Email Randy: randywredeco@hotmail.com.
URL:https://sunnyside4.org/event/monday-morning-prayer-14/2029-01-15/
LOCATION:Sunnyside Church\, 13231 SE Sunnyside Road\, Happy Valley\, Oregon\, 97015
END:VEVENT
BEGIN:VEVENT
DTSTART;TZID=America/Los_Angeles:20290116T070000
DTEND;TZID=America/Los_Angeles:20290116T083000
DTSTAMP:20260424T033117
CREATED:20251202T001917Z
LAST-MODIFIED:20251230T191611Z
UID:10001434-1863241200-1863246600@sunnyside4.org
SUMMARY:Tuesday Men's Bible Study
DESCRIPTION:Men of Sunnyside\, please join us in room 215 for praise\, prayer and the Word!
URL:https://sunnyside4.org/event/tuesday-mens-bible-study/2029-01-16/
LOCATION:Sunnyside Church\, 13231 SE Sunnyside Road\, Happy Valley\, Oregon\, 97015
END:VEVENT
BEGIN:VEVENT
DTSTART;TZID=America/Los_Angeles:20290122T083000
DTEND;TZID=America/Los_Angeles:20290122T093000
DTSTAMP:20260424T033117
CREATED:20251202T221845Z
LAST-MODIFIED:20251230T192919Z
UID:10000901-1863765000-1863768600@sunnyside4.org
SUMMARY:Monday Morning Prayer
DESCRIPTION:Open to all\, this prayer group happens each Monday at 8:30 AM in the sanctuary. Let’s intercede for our body\, for our city and for the world! We pray over requests from connection cards; we ask for healing over the sick; we praise and thank the Lord as he leads each week. Join us! Questions? Email Randy: randywredeco@hotmail.com.
URL:https://sunnyside4.org/event/monday-morning-prayer-14/2029-01-22/
LOCATION:Sunnyside Church\, 13231 SE Sunnyside Road\, Happy Valley\, Oregon\, 97015
END:VEVENT
BEGIN:VEVENT
DTSTART;TZID=America/Los_Angeles:20290123T070000
DTEND;TZID=America/Los_Angeles:20290123T083000
DTSTAMP:20260424T033117
CREATED:20251202T001917Z
LAST-MODIFIED:20251230T191611Z
UID:10001435-1863846000-1863851400@sunnyside4.org
SUMMARY:Tuesday Men's Bible Study
DESCRIPTION:Men of Sunnyside\, please join us in room 215 for praise\, prayer and the Word!
URL:https://sunnyside4.org/event/tuesday-mens-bible-study/2029-01-23/
LOCATION:Sunnyside Church\, 13231 SE Sunnyside Road\, Happy Valley\, Oregon\, 97015
END:VEVENT
BEGIN:VEVENT
DTSTART;TZID=America/Los_Angeles:20290129T083000
DTEND;TZID=America/Los_Angeles:20290129T093000
DTSTAMP:20260424T033117
CREATED:20251202T221845Z
LAST-MODIFIED:20251230T192919Z
UID:10000902-1864369800-1864373400@sunnyside4.org
SUMMARY:Monday Morning Prayer
DESCRIPTION:Open to all\, this prayer group happens each Monday at 8:30 AM in the sanctuary. Let’s intercede for our body\, for our city and for the world! We pray over requests from connection cards; we ask for healing over the sick; we praise and thank the Lord as he leads each week. Join us! Questions? Email Randy: randywredeco@hotmail.com.
URL:https://sunnyside4.org/event/monday-morning-prayer-14/2029-01-29/
LOCATION:Sunnyside Church\, 13231 SE Sunnyside Road\, Happy Valley\, Oregon\, 97015
END:VEVENT
BEGIN:VEVENT
DTSTART;TZID=America/Los_Angeles:20290130T070000
DTEND;TZID=America/Los_Angeles:20290130T083000
DTSTAMP:20260424T033117
CREATED:20251202T001917Z
LAST-MODIFIED:20251230T191611Z
UID:10001436-1864450800-1864456200@sunnyside4.org
SUMMARY:Tuesday Men's Bible Study
DESCRIPTION:Men of Sunnyside\, please join us in room 215 for praise\, prayer and the Word!
URL:https://sunnyside4.org/event/tuesday-mens-bible-study/2029-01-30/
LOCATION:Sunnyside Church\, 13231 SE Sunnyside Road\, Happy Valley\, Oregon\, 97015
END:VEVENT
BEGIN:VEVENT
DTSTART;TZID=America/Los_Angeles:20290205T083000
DTEND;TZID=America/Los_Angeles:20290205T093000
DTSTAMP:20260424T033117
CREATED:20251202T221845Z
LAST-MODIFIED:20251230T192919Z
UID:10000903-1864974600-1864978200@sunnyside4.org
SUMMARY:Monday Morning Prayer
DESCRIPTION:Open to all\, this prayer group happens each Monday at 8:30 AM in the sanctuary. Let’s intercede for our body\, for our city and for the world! We pray over requests from connection cards; we ask for healing over the sick; we praise and thank the Lord as he leads each week. Join us! Questions? Email Randy: randywredeco@hotmail.com.
URL:https://sunnyside4.org/event/monday-morning-prayer-14/2029-02-05/
LOCATION:Sunnyside Church\, 13231 SE Sunnyside Road\, Happy Valley\, Oregon\, 97015
END:VEVENT
BEGIN:VEVENT
DTSTART;TZID=America/Los_Angeles:20290206T070000
DTEND;TZID=America/Los_Angeles:20290206T083000
DTSTAMP:20260424T033117
CREATED:20251202T001917Z
LAST-MODIFIED:20251230T191611Z
UID:10001437-1865055600-1865061000@sunnyside4.org
SUMMARY:Tuesday Men's Bible Study
DESCRIPTION:Men of Sunnyside\, please join us in room 215 for praise\, prayer and the Word!
URL:https://sunnyside4.org/event/tuesday-mens-bible-study/2029-02-06/
LOCATION:Sunnyside Church\, 13231 SE Sunnyside Road\, Happy Valley\, Oregon\, 97015
END:VEVENT
BEGIN:VEVENT
DTSTART;TZID=America/Los_Angeles:20290212T083000
DTEND;TZID=America/Los_Angeles:20290212T093000
DTSTAMP:20260424T033117
CREATED:20251202T221845Z
LAST-MODIFIED:20251230T192919Z
UID:10000904-1865579400-1865583000@sunnyside4.org
SUMMARY:Monday Morning Prayer
DESCRIPTION:Open to all\, this prayer group happens each Monday at 8:30 AM in the sanctuary. Let’s intercede for our body\, for our city and for the world! We pray over requests from connection cards; we ask for healing over the sick; we praise and thank the Lord as he leads each week. Join us! Questions? Email Randy: randywredeco@hotmail.com.
URL:https://sunnyside4.org/event/monday-morning-prayer-14/2029-02-12/
LOCATION:Sunnyside Church\, 13231 SE Sunnyside Road\, Happy Valley\, Oregon\, 97015
END:VEVENT
BEGIN:VEVENT
DTSTART;TZID=America/Los_Angeles:20290213T070000
DTEND;TZID=America/Los_Angeles:20290213T083000
DTSTAMP:20260424T033117
CREATED:20251202T001917Z
LAST-MODIFIED:20251230T191611Z
UID:10001438-1865660400-1865665800@sunnyside4.org
SUMMARY:Tuesday Men's Bible Study
DESCRIPTION:Men of Sunnyside\, please join us in room 215 for praise\, prayer and the Word!
URL:https://sunnyside4.org/event/tuesday-mens-bible-study/2029-02-13/
LOCATION:Sunnyside Church\, 13231 SE Sunnyside Road\, Happy Valley\, Oregon\, 97015
END:VEVENT
BEGIN:VEVENT
DTSTART;TZID=America/Los_Angeles:20290219T083000
DTEND;TZID=America/Los_Angeles:20290219T093000
DTSTAMP:20260424T033117
CREATED:20251202T221845Z
LAST-MODIFIED:20251230T192919Z
UID:10000905-1866184200-1866187800@sunnyside4.org
SUMMARY:Monday Morning Prayer
DESCRIPTION:Open to all\, this prayer group happens each Monday at 8:30 AM in the sanctuary. Let’s intercede for our body\, for our city and for the world! We pray over requests from connection cards; we ask for healing over the sick; we praise and thank the Lord as he leads each week. Join us! Questions? Email Randy: randywredeco@hotmail.com.
URL:https://sunnyside4.org/event/monday-morning-prayer-14/2029-02-19/
LOCATION:Sunnyside Church\, 13231 SE Sunnyside Road\, Happy Valley\, Oregon\, 97015
END:VEVENT
BEGIN:VEVENT
DTSTART;TZID=America/Los_Angeles:20290220T070000
DTEND;TZID=America/Los_Angeles:20290220T083000
DTSTAMP:20260424T033117
CREATED:20251202T001917Z
LAST-MODIFIED:20251230T191611Z
UID:10001439-1866265200-1866270600@sunnyside4.org
SUMMARY:Tuesday Men's Bible Study
DESCRIPTION:Men of Sunnyside\, please join us in room 215 for praise\, prayer and the Word!
URL:https://sunnyside4.org/event/tuesday-mens-bible-study/2029-02-20/
LOCATION:Sunnyside Church\, 13231 SE Sunnyside Road\, Happy Valley\, Oregon\, 97015
END:VEVENT
BEGIN:VEVENT
DTSTART;TZID=America/Los_Angeles:20290226T083000
DTEND;TZID=America/Los_Angeles:20290226T093000
DTSTAMP:20260424T033117
CREATED:20251202T221845Z
LAST-MODIFIED:20251230T192919Z
UID:10000906-1866789000-1866792600@sunnyside4.org
SUMMARY:Monday Morning Prayer
DESCRIPTION:Open to all\, this prayer group happens each Monday at 8:30 AM in the sanctuary. Let’s intercede for our body\, for our city and for the world! We pray over requests from connection cards; we ask for healing over the sick; we praise and thank the Lord as he leads each week. Join us! Questions? Email Randy: randywredeco@hotmail.com.
URL:https://sunnyside4.org/event/monday-morning-prayer-14/2029-02-26/
LOCATION:Sunnyside Church\, 13231 SE Sunnyside Road\, Happy Valley\, Oregon\, 97015
END:VEVENT
BEGIN:VEVENT
DTSTART;TZID=America/Los_Angeles:20290227T070000
DTEND;TZID=America/Los_Angeles:20290227T083000
DTSTAMP:20260424T033117
CREATED:20251202T001917Z
LAST-MODIFIED:20251230T191611Z
UID:10001440-1866870000-1866875400@sunnyside4.org
SUMMARY:Tuesday Men's Bible Study
DESCRIPTION:Men of Sunnyside\, please join us in room 215 for praise\, prayer and the Word!
URL:https://sunnyside4.org/event/tuesday-mens-bible-study/2029-02-27/
LOCATION:Sunnyside Church\, 13231 SE Sunnyside Road\, Happy Valley\, Oregon\, 97015
END:VEVENT
BEGIN:VEVENT
DTSTART;TZID=America/Los_Angeles:20290305T083000
DTEND;TZID=America/Los_Angeles:20290305T093000
DTSTAMP:20260424T033117
CREATED:20251202T221845Z
LAST-MODIFIED:20251230T192919Z
UID:10000907-1867393800-1867397400@sunnyside4.org
SUMMARY:Monday Morning Prayer
DESCRIPTION:Open to all\, this prayer group happens each Monday at 8:30 AM in the sanctuary. Let’s intercede for our body\, for our city and for the world! We pray over requests from connection cards; we ask for healing over the sick; we praise and thank the Lord as he leads each week. Join us! Questions? Email Randy: randywredeco@hotmail.com.
URL:https://sunnyside4.org/event/monday-morning-prayer-14/2029-03-05/
LOCATION:Sunnyside Church\, 13231 SE Sunnyside Road\, Happy Valley\, Oregon\, 97015
END:VEVENT
BEGIN:VEVENT
DTSTART;TZID=America/Los_Angeles:20290306T070000
DTEND;TZID=America/Los_Angeles:20290306T083000
DTSTAMP:20260424T033117
CREATED:20251202T001917Z
LAST-MODIFIED:20251230T191611Z
UID:10001441-1867474800-1867480200@sunnyside4.org
SUMMARY:Tuesday Men's Bible Study
DESCRIPTION:Men of Sunnyside\, please join us in room 215 for praise\, prayer and the Word!
URL:https://sunnyside4.org/event/tuesday-mens-bible-study/2029-03-06/
LOCATION:Sunnyside Church\, 13231 SE Sunnyside Road\, Happy Valley\, Oregon\, 97015
END:VEVENT
BEGIN:VEVENT
DTSTART;TZID=America/Los_Angeles:20290312T083000
DTEND;TZID=America/Los_Angeles:20290312T093000
DTSTAMP:20260424T033117
CREATED:20251202T221845Z
LAST-MODIFIED:20251230T192919Z
UID:10000908-1867998600-1868002200@sunnyside4.org
SUMMARY:Monday Morning Prayer
DESCRIPTION:Open to all\, this prayer group happens each Monday at 8:30 AM in the sanctuary. Let’s intercede for our body\, for our city and for the world! We pray over requests from connection cards; we ask for healing over the sick; we praise and thank the Lord as he leads each week. Join us! Questions? Email Randy: randywredeco@hotmail.com.
URL:https://sunnyside4.org/event/monday-morning-prayer-14/2029-03-12/
LOCATION:Sunnyside Church\, 13231 SE Sunnyside Road\, Happy Valley\, Oregon\, 97015
END:VEVENT
BEGIN:VEVENT
DTSTART;TZID=America/Los_Angeles:20290313T070000
DTEND;TZID=America/Los_Angeles:20290313T083000
DTSTAMP:20260424T033117
CREATED:20251202T001917Z
LAST-MODIFIED:20251230T191611Z
UID:10001442-1868079600-1868085000@sunnyside4.org
SUMMARY:Tuesday Men's Bible Study
DESCRIPTION:Men of Sunnyside\, please join us in room 215 for praise\, prayer and the Word!
URL:https://sunnyside4.org/event/tuesday-mens-bible-study/2029-03-13/
LOCATION:Sunnyside Church\, 13231 SE Sunnyside Road\, Happy Valley\, Oregon\, 97015
END:VEVENT
BEGIN:VEVENT
DTSTART;TZID=America/Los_Angeles:20290319T083000
DTEND;TZID=America/Los_Angeles:20290319T093000
DTSTAMP:20260424T033117
CREATED:20251202T221845Z
LAST-MODIFIED:20251230T192919Z
UID:10000909-1868603400-1868607000@sunnyside4.org
SUMMARY:Monday Morning Prayer
DESCRIPTION:Open to all\, this prayer group happens each Monday at 8:30 AM in the sanctuary. Let’s intercede for our body\, for our city and for the world! We pray over requests from connection cards; we ask for healing over the sick; we praise and thank the Lord as he leads each week. Join us! Questions? Email Randy: randywredeco@hotmail.com.
URL:https://sunnyside4.org/event/monday-morning-prayer-14/2029-03-19/
LOCATION:Sunnyside Church\, 13231 SE Sunnyside Road\, Happy Valley\, Oregon\, 97015
END:VEVENT
BEGIN:VEVENT
DTSTART;TZID=America/Los_Angeles:20290320T070000
DTEND;TZID=America/Los_Angeles:20290320T083000
DTSTAMP:20260424T033117
CREATED:20251202T001917Z
LAST-MODIFIED:20251230T191611Z
UID:10001443-1868684400-1868689800@sunnyside4.org
SUMMARY:Tuesday Men's Bible Study
DESCRIPTION:Men of Sunnyside\, please join us in room 215 for praise\, prayer and the Word!
URL:https://sunnyside4.org/event/tuesday-mens-bible-study/2029-03-20/
LOCATION:Sunnyside Church\, 13231 SE Sunnyside Road\, Happy Valley\, Oregon\, 97015
END:VEVENT
BEGIN:VEVENT
DTSTART;TZID=America/Los_Angeles:20290326T083000
DTEND;TZID=America/Los_Angeles:20290326T093000
DTSTAMP:20260424T033117
CREATED:20251202T221845Z
LAST-MODIFIED:20251230T192919Z
UID:10000910-1869208200-1869211800@sunnyside4.org
SUMMARY:Monday Morning Prayer
DESCRIPTION:Open to all\, this prayer group happens each Monday at 8:30 AM in the sanctuary. Let’s intercede for our body\, for our city and for the world! We pray over requests from connection cards; we ask for healing over the sick; we praise and thank the Lord as he leads each week. Join us! Questions? Email Randy: randywredeco@hotmail.com.
URL:https://sunnyside4.org/event/monday-morning-prayer-14/2029-03-26/
LOCATION:Sunnyside Church\, 13231 SE Sunnyside Road\, Happy Valley\, Oregon\, 97015
END:VEVENT
BEGIN:VEVENT
DTSTART;TZID=America/Los_Angeles:20290327T070000
DTEND;TZID=America/Los_Angeles:20290327T083000
DTSTAMP:20260424T033117
CREATED:20251202T001917Z
LAST-MODIFIED:20251230T191611Z
UID:10001444-1869289200-1869294600@sunnyside4.org
SUMMARY:Tuesday Men's Bible Study
DESCRIPTION:Men of Sunnyside\, please join us in room 215 for praise\, prayer and the Word!
URL:https://sunnyside4.org/event/tuesday-mens-bible-study/2029-03-27/
LOCATION:Sunnyside Church\, 13231 SE Sunnyside Road\, Happy Valley\, Oregon\, 97015
END:VEVENT
BEGIN:VEVENT
DTSTART;TZID=America/Los_Angeles:20290402T083000
DTEND;TZID=America/Los_Angeles:20290402T093000
DTSTAMP:20260424T033117
CREATED:20251202T221845Z
LAST-MODIFIED:20251230T192919Z
UID:10000911-1869813000-1869816600@sunnyside4.org
SUMMARY:Monday Morning Prayer
DESCRIPTION:Open to all\, this prayer group happens each Monday at 8:30 AM in the sanctuary. Let’s intercede for our body\, for our city and for the world! We pray over requests from connection cards; we ask for healing over the sick; we praise and thank the Lord as he leads each week. Join us! Questions? Email Randy: randywredeco@hotmail.com.
URL:https://sunnyside4.org/event/monday-morning-prayer-14/2029-04-02/
LOCATION:Sunnyside Church\, 13231 SE Sunnyside Road\, Happy Valley\, Oregon\, 97015
END:VEVENT
BEGIN:VEVENT
DTSTART;TZID=America/Los_Angeles:20290403T070000
DTEND;TZID=America/Los_Angeles:20290403T083000
DTSTAMP:20260424T033117
CREATED:20251202T001917Z
LAST-MODIFIED:20251230T191611Z
UID:10001445-1869894000-1869899400@sunnyside4.org
SUMMARY:Tuesday Men's Bible Study
DESCRIPTION:Men of Sunnyside\, please join us in room 215 for praise\, prayer and the Word!
URL:https://sunnyside4.org/event/tuesday-mens-bible-study/2029-04-03/
LOCATION:Sunnyside Church\, 13231 SE Sunnyside Road\, Happy Valley\, Oregon\, 97015
END:VEVENT
BEGIN:VEVENT
DTSTART;TZID=America/Los_Angeles:20290409T083000
DTEND;TZID=America/Los_Angeles:20290409T093000
DTSTAMP:20260424T033117
CREATED:20251202T221845Z
LAST-MODIFIED:20251230T192919Z
UID:10000912-1870417800-1870421400@sunnyside4.org
SUMMARY:Monday Morning Prayer
DESCRIPTION:Open to all\, this prayer group happens each Monday at 8:30 AM in the sanctuary. Let’s intercede for our body\, for our city and for the world! We pray over requests from connection cards; we ask for healing over the sick; we praise and thank the Lord as he leads each week. Join us! Questions? Email Randy: randywredeco@hotmail.com.
URL:https://sunnyside4.org/event/monday-morning-prayer-14/2029-04-09/
LOCATION:Sunnyside Church\, 13231 SE Sunnyside Road\, Happy Valley\, Oregon\, 97015
END:VEVENT
BEGIN:VEVENT
DTSTART;TZID=America/Los_Angeles:20290410T070000
DTEND;TZID=America/Los_Angeles:20290410T083000
DTSTAMP:20260424T033117
CREATED:20251202T001917Z
LAST-MODIFIED:20251230T191611Z
UID:10001446-1870498800-1870504200@sunnyside4.org
SUMMARY:Tuesday Men's Bible Study
DESCRIPTION:Men of Sunnyside\, please join us in room 215 for praise\, prayer and the Word!
URL:https://sunnyside4.org/event/tuesday-mens-bible-study/2029-04-10/
LOCATION:Sunnyside Church\, 13231 SE Sunnyside Road\, Happy Valley\, Oregon\, 97015
END:VEVENT
BEGIN:VEVENT
DTSTART;TZID=America/Los_Angeles:20290416T083000
DTEND;TZID=America/Los_Angeles:20290416T093000
DTSTAMP:20260424T033117
CREATED:20251202T221845Z
LAST-MODIFIED:20251230T192919Z
UID:10000913-1871022600-1871026200@sunnyside4.org
SUMMARY:Monday Morning Prayer
DESCRIPTION:Open to all\, this prayer group happens each Monday at 8:30 AM in the sanctuary. Let’s intercede for our body\, for our city and for the world! We pray over requests from connection cards; we ask for healing over the sick; we praise and thank the Lord as he leads each week. Join us! Questions? Email Randy: randywredeco@hotmail.com.
URL:https://sunnyside4.org/event/monday-morning-prayer-14/2029-04-16/
LOCATION:Sunnyside Church\, 13231 SE Sunnyside Road\, Happy Valley\, Oregon\, 97015
END:VEVENT
BEGIN:VEVENT
DTSTART;TZID=America/Los_Angeles:20290417T070000
DTEND;TZID=America/Los_Angeles:20290417T083000
DTSTAMP:20260424T033117
CREATED:20251202T001917Z
LAST-MODIFIED:20251230T191611Z
UID:10001447-1871103600-1871109000@sunnyside4.org
SUMMARY:Tuesday Men's Bible Study
DESCRIPTION:Men of Sunnyside\, please join us in room 215 for praise\, prayer and the Word!
URL:https://sunnyside4.org/event/tuesday-mens-bible-study/2029-04-17/
LOCATION:Sunnyside Church\, 13231 SE Sunnyside Road\, Happy Valley\, Oregon\, 97015
END:VEVENT
END:VCALENDAR