BEGIN:VCALENDAR
VERSION:2.0
PRODID:-//Sunnyside Foursquare - ECPv6.15.20//NONSGML v1.0//EN
CALSCALE:GREGORIAN
METHOD:PUBLISH
X-ORIGINAL-URL:https://sunnyside4.org
X-WR-CALDESC:Events for Sunnyside Foursquare
REFRESH-INTERVAL;VALUE=DURATION:PT1H
X-Robots-Tag:noindex
X-PUBLISHED-TTL:PT1H
BEGIN:VTIMEZONE
TZID:America/Los_Angeles
BEGIN:DAYLIGHT
TZOFFSETFROM:-0800
TZOFFSETTO:-0700
TZNAME:PDT
DTSTART:20280312T100000
END:DAYLIGHT
BEGIN:STANDARD
TZOFFSETFROM:-0700
TZOFFSETTO:-0800
TZNAME:PST
DTSTART:20281105T090000
END:STANDARD
BEGIN:DAYLIGHT
TZOFFSETFROM:-0800
TZOFFSETTO:-0700
TZNAME:PDT
DTSTART:20290311T100000
END:DAYLIGHT
BEGIN:STANDARD
TZOFFSETFROM:-0700
TZOFFSETTO:-0800
TZNAME:PST
DTSTART:20291104T090000
END:STANDARD
BEGIN:DAYLIGHT
TZOFFSETFROM:-0800
TZOFFSETTO:-0700
TZNAME:PDT
DTSTART:20300310T100000
END:DAYLIGHT
BEGIN:STANDARD
TZOFFSETFROM:-0700
TZOFFSETTO:-0800
TZNAME:PST
DTSTART:20301103T090000
END:STANDARD
BEGIN:DAYLIGHT
TZOFFSETFROM:-0800
TZOFFSETTO:-0700
TZNAME:PDT
DTSTART:20310309T100000
END:DAYLIGHT
BEGIN:STANDARD
TZOFFSETFROM:-0700
TZOFFSETTO:-0800
TZNAME:PST
DTSTART:20311102T090000
END:STANDARD
END:VTIMEZONE
BEGIN:VEVENT
DTSTART;TZID=America/Los_Angeles:20291210T083000
DTEND;TZID=America/Los_Angeles:20291210T093000
DTSTAMP:20260424T175615
CREATED:20251202T221845Z
LAST-MODIFIED:20251230T192919Z
UID:10000947-1891585800-1891589400@sunnyside4.org
SUMMARY:Monday Morning Prayer
DESCRIPTION:Open to all\, this prayer group happens each Monday at 8:30 AM in the sanctuary. Let’s intercede for our body\, for our city and for the world! We pray over requests from connection cards; we ask for healing over the sick; we praise and thank the Lord as he leads each week. Join us! Questions? Email Randy: randywredeco@hotmail.com.
URL:https://sunnyside4.org/event/monday-morning-prayer-14/2029-12-10/
LOCATION:Sunnyside Church\, 13231 SE Sunnyside Road\, Happy Valley\, Oregon\, 97015
END:VEVENT
BEGIN:VEVENT
DTSTART;TZID=America/Los_Angeles:20291211T070000
DTEND;TZID=America/Los_Angeles:20291211T083000
DTSTAMP:20260424T175615
CREATED:20251202T001917Z
LAST-MODIFIED:20251230T191611Z
UID:10001481-1891666800-1891672200@sunnyside4.org
SUMMARY:Tuesday Men's Bible Study
DESCRIPTION:Men of Sunnyside\, please join us in room 215 for praise\, prayer and the Word!
URL:https://sunnyside4.org/event/tuesday-mens-bible-study/2029-12-11/
LOCATION:Sunnyside Church\, 13231 SE Sunnyside Road\, Happy Valley\, Oregon\, 97015
END:VEVENT
BEGIN:VEVENT
DTSTART;TZID=America/Los_Angeles:20291217T083000
DTEND;TZID=America/Los_Angeles:20291217T093000
DTSTAMP:20260424T175615
CREATED:20251202T221845Z
LAST-MODIFIED:20251230T192919Z
UID:10000948-1892190600-1892194200@sunnyside4.org
SUMMARY:Monday Morning Prayer
DESCRIPTION:Open to all\, this prayer group happens each Monday at 8:30 AM in the sanctuary. Let’s intercede for our body\, for our city and for the world! We pray over requests from connection cards; we ask for healing over the sick; we praise and thank the Lord as he leads each week. Join us! Questions? Email Randy: randywredeco@hotmail.com.
URL:https://sunnyside4.org/event/monday-morning-prayer-14/2029-12-17/
LOCATION:Sunnyside Church\, 13231 SE Sunnyside Road\, Happy Valley\, Oregon\, 97015
END:VEVENT
BEGIN:VEVENT
DTSTART;TZID=America/Los_Angeles:20291218T070000
DTEND;TZID=America/Los_Angeles:20291218T083000
DTSTAMP:20260424T175615
CREATED:20251202T001917Z
LAST-MODIFIED:20251230T191611Z
UID:10001482-1892271600-1892277000@sunnyside4.org
SUMMARY:Tuesday Men's Bible Study
DESCRIPTION:Men of Sunnyside\, please join us in room 215 for praise\, prayer and the Word!
URL:https://sunnyside4.org/event/tuesday-mens-bible-study/2029-12-18/
LOCATION:Sunnyside Church\, 13231 SE Sunnyside Road\, Happy Valley\, Oregon\, 97015
END:VEVENT
BEGIN:VEVENT
DTSTART;TZID=America/Los_Angeles:20291224T083000
DTEND;TZID=America/Los_Angeles:20291224T093000
DTSTAMP:20260424T175615
CREATED:20251202T221845Z
LAST-MODIFIED:20251230T192919Z
UID:10000949-1892795400-1892799000@sunnyside4.org
SUMMARY:Monday Morning Prayer
DESCRIPTION:Open to all\, this prayer group happens each Monday at 8:30 AM in the sanctuary. Let’s intercede for our body\, for our city and for the world! We pray over requests from connection cards; we ask for healing over the sick; we praise and thank the Lord as he leads each week. Join us! Questions? Email Randy: randywredeco@hotmail.com.
URL:https://sunnyside4.org/event/monday-morning-prayer-14/2029-12-24/
LOCATION:Sunnyside Church\, 13231 SE Sunnyside Road\, Happy Valley\, Oregon\, 97015
END:VEVENT
BEGIN:VEVENT
DTSTART;TZID=America/Los_Angeles:20291225T070000
DTEND;TZID=America/Los_Angeles:20291225T083000
DTSTAMP:20260424T175615
CREATED:20251202T001917Z
LAST-MODIFIED:20251230T191611Z
UID:10001483-1892876400-1892881800@sunnyside4.org
SUMMARY:Tuesday Men's Bible Study
DESCRIPTION:Men of Sunnyside\, please join us in room 215 for praise\, prayer and the Word!
URL:https://sunnyside4.org/event/tuesday-mens-bible-study/2029-12-25/
LOCATION:Sunnyside Church\, 13231 SE Sunnyside Road\, Happy Valley\, Oregon\, 97015
END:VEVENT
BEGIN:VEVENT
DTSTART;TZID=America/Los_Angeles:20291231T083000
DTEND;TZID=America/Los_Angeles:20291231T093000
DTSTAMP:20260424T175615
CREATED:20251202T221845Z
LAST-MODIFIED:20251230T192919Z
UID:10000950-1893400200-1893403800@sunnyside4.org
SUMMARY:Monday Morning Prayer
DESCRIPTION:Open to all\, this prayer group happens each Monday at 8:30 AM in the sanctuary. Let’s intercede for our body\, for our city and for the world! We pray over requests from connection cards; we ask for healing over the sick; we praise and thank the Lord as he leads each week. Join us! Questions? Email Randy: randywredeco@hotmail.com.
URL:https://sunnyside4.org/event/monday-morning-prayer-14/2029-12-31/
LOCATION:Sunnyside Church\, 13231 SE Sunnyside Road\, Happy Valley\, Oregon\, 97015
END:VEVENT
BEGIN:VEVENT
DTSTART;TZID=America/Los_Angeles:20300101T070000
DTEND;TZID=America/Los_Angeles:20300101T083000
DTSTAMP:20260424T175615
CREATED:20251202T001917Z
LAST-MODIFIED:20251230T191611Z
UID:10001484-1893481200-1893486600@sunnyside4.org
SUMMARY:Tuesday Men's Bible Study
DESCRIPTION:Men of Sunnyside\, please join us in room 215 for praise\, prayer and the Word!
URL:https://sunnyside4.org/event/tuesday-mens-bible-study/2030-01-01/
LOCATION:Sunnyside Church\, 13231 SE Sunnyside Road\, Happy Valley\, Oregon\, 97015
END:VEVENT
BEGIN:VEVENT
DTSTART;TZID=America/Los_Angeles:20300107T083000
DTEND;TZID=America/Los_Angeles:20300107T093000
DTSTAMP:20260424T175615
CREATED:20251202T221845Z
LAST-MODIFIED:20251230T192919Z
UID:10000951-1894005000-1894008600@sunnyside4.org
SUMMARY:Monday Morning Prayer
DESCRIPTION:Open to all\, this prayer group happens each Monday at 8:30 AM in the sanctuary. Let’s intercede for our body\, for our city and for the world! We pray over requests from connection cards; we ask for healing over the sick; we praise and thank the Lord as he leads each week. Join us! Questions? Email Randy: randywredeco@hotmail.com.
URL:https://sunnyside4.org/event/monday-morning-prayer-14/2030-01-07/
LOCATION:Sunnyside Church\, 13231 SE Sunnyside Road\, Happy Valley\, Oregon\, 97015
END:VEVENT
BEGIN:VEVENT
DTSTART;TZID=America/Los_Angeles:20300108T070000
DTEND;TZID=America/Los_Angeles:20300108T083000
DTSTAMP:20260424T175615
CREATED:20251202T001917Z
LAST-MODIFIED:20251230T191611Z
UID:10001485-1894086000-1894091400@sunnyside4.org
SUMMARY:Tuesday Men's Bible Study
DESCRIPTION:Men of Sunnyside\, please join us in room 215 for praise\, prayer and the Word!
URL:https://sunnyside4.org/event/tuesday-mens-bible-study/2030-01-08/
LOCATION:Sunnyside Church\, 13231 SE Sunnyside Road\, Happy Valley\, Oregon\, 97015
END:VEVENT
BEGIN:VEVENT
DTSTART;TZID=America/Los_Angeles:20300114T083000
DTEND;TZID=America/Los_Angeles:20300114T093000
DTSTAMP:20260424T175615
CREATED:20251202T221845Z
LAST-MODIFIED:20251230T192919Z
UID:10000952-1894609800-1894613400@sunnyside4.org
SUMMARY:Monday Morning Prayer
DESCRIPTION:Open to all\, this prayer group happens each Monday at 8:30 AM in the sanctuary. Let’s intercede for our body\, for our city and for the world! We pray over requests from connection cards; we ask for healing over the sick; we praise and thank the Lord as he leads each week. Join us! Questions? Email Randy: randywredeco@hotmail.com.
URL:https://sunnyside4.org/event/monday-morning-prayer-14/2030-01-14/
LOCATION:Sunnyside Church\, 13231 SE Sunnyside Road\, Happy Valley\, Oregon\, 97015
END:VEVENT
BEGIN:VEVENT
DTSTART;TZID=America/Los_Angeles:20300115T070000
DTEND;TZID=America/Los_Angeles:20300115T083000
DTSTAMP:20260424T175615
CREATED:20251202T001917Z
LAST-MODIFIED:20251230T191611Z
UID:10001486-1894690800-1894696200@sunnyside4.org
SUMMARY:Tuesday Men's Bible Study
DESCRIPTION:Men of Sunnyside\, please join us in room 215 for praise\, prayer and the Word!
URL:https://sunnyside4.org/event/tuesday-mens-bible-study/2030-01-15/
LOCATION:Sunnyside Church\, 13231 SE Sunnyside Road\, Happy Valley\, Oregon\, 97015
END:VEVENT
BEGIN:VEVENT
DTSTART;TZID=America/Los_Angeles:20300121T083000
DTEND;TZID=America/Los_Angeles:20300121T093000
DTSTAMP:20260424T175615
CREATED:20251202T221845Z
LAST-MODIFIED:20251230T192919Z
UID:10000953-1895214600-1895218200@sunnyside4.org
SUMMARY:Monday Morning Prayer
DESCRIPTION:Open to all\, this prayer group happens each Monday at 8:30 AM in the sanctuary. Let’s intercede for our body\, for our city and for the world! We pray over requests from connection cards; we ask for healing over the sick; we praise and thank the Lord as he leads each week. Join us! Questions? Email Randy: randywredeco@hotmail.com.
URL:https://sunnyside4.org/event/monday-morning-prayer-14/2030-01-21/
LOCATION:Sunnyside Church\, 13231 SE Sunnyside Road\, Happy Valley\, Oregon\, 97015
END:VEVENT
BEGIN:VEVENT
DTSTART;TZID=America/Los_Angeles:20300122T070000
DTEND;TZID=America/Los_Angeles:20300122T083000
DTSTAMP:20260424T175615
CREATED:20251202T001917Z
LAST-MODIFIED:20251230T191611Z
UID:10001487-1895295600-1895301000@sunnyside4.org
SUMMARY:Tuesday Men's Bible Study
DESCRIPTION:Men of Sunnyside\, please join us in room 215 for praise\, prayer and the Word!
URL:https://sunnyside4.org/event/tuesday-mens-bible-study/2030-01-22/
LOCATION:Sunnyside Church\, 13231 SE Sunnyside Road\, Happy Valley\, Oregon\, 97015
END:VEVENT
BEGIN:VEVENT
DTSTART;TZID=America/Los_Angeles:20300128T083000
DTEND;TZID=America/Los_Angeles:20300128T093000
DTSTAMP:20260424T175615
CREATED:20251202T221845Z
LAST-MODIFIED:20251230T192919Z
UID:10000954-1895819400-1895823000@sunnyside4.org
SUMMARY:Monday Morning Prayer
DESCRIPTION:Open to all\, this prayer group happens each Monday at 8:30 AM in the sanctuary. Let’s intercede for our body\, for our city and for the world! We pray over requests from connection cards; we ask for healing over the sick; we praise and thank the Lord as he leads each week. Join us! Questions? Email Randy: randywredeco@hotmail.com.
URL:https://sunnyside4.org/event/monday-morning-prayer-14/2030-01-28/
LOCATION:Sunnyside Church\, 13231 SE Sunnyside Road\, Happy Valley\, Oregon\, 97015
END:VEVENT
BEGIN:VEVENT
DTSTART;TZID=America/Los_Angeles:20300129T070000
DTEND;TZID=America/Los_Angeles:20300129T083000
DTSTAMP:20260424T175615
CREATED:20251202T001917Z
LAST-MODIFIED:20251230T191611Z
UID:10001488-1895900400-1895905800@sunnyside4.org
SUMMARY:Tuesday Men's Bible Study
DESCRIPTION:Men of Sunnyside\, please join us in room 215 for praise\, prayer and the Word!
URL:https://sunnyside4.org/event/tuesday-mens-bible-study/2030-01-29/
LOCATION:Sunnyside Church\, 13231 SE Sunnyside Road\, Happy Valley\, Oregon\, 97015
END:VEVENT
BEGIN:VEVENT
DTSTART;TZID=America/Los_Angeles:20300204T083000
DTEND;TZID=America/Los_Angeles:20300204T093000
DTSTAMP:20260424T175615
CREATED:20251202T221845Z
LAST-MODIFIED:20251230T192919Z
UID:10000955-1896424200-1896427800@sunnyside4.org
SUMMARY:Monday Morning Prayer
DESCRIPTION:Open to all\, this prayer group happens each Monday at 8:30 AM in the sanctuary. Let’s intercede for our body\, for our city and for the world! We pray over requests from connection cards; we ask for healing over the sick; we praise and thank the Lord as he leads each week. Join us! Questions? Email Randy: randywredeco@hotmail.com.
URL:https://sunnyside4.org/event/monday-morning-prayer-14/2030-02-04/
LOCATION:Sunnyside Church\, 13231 SE Sunnyside Road\, Happy Valley\, Oregon\, 97015
END:VEVENT
BEGIN:VEVENT
DTSTART;TZID=America/Los_Angeles:20300205T070000
DTEND;TZID=America/Los_Angeles:20300205T083000
DTSTAMP:20260424T175615
CREATED:20251202T001917Z
LAST-MODIFIED:20251230T191611Z
UID:10001489-1896505200-1896510600@sunnyside4.org
SUMMARY:Tuesday Men's Bible Study
DESCRIPTION:Men of Sunnyside\, please join us in room 215 for praise\, prayer and the Word!
URL:https://sunnyside4.org/event/tuesday-mens-bible-study/2030-02-05/
LOCATION:Sunnyside Church\, 13231 SE Sunnyside Road\, Happy Valley\, Oregon\, 97015
END:VEVENT
BEGIN:VEVENT
DTSTART;TZID=America/Los_Angeles:20300211T083000
DTEND;TZID=America/Los_Angeles:20300211T093000
DTSTAMP:20260424T175615
CREATED:20251202T221845Z
LAST-MODIFIED:20251230T192919Z
UID:10000956-1897029000-1897032600@sunnyside4.org
SUMMARY:Monday Morning Prayer
DESCRIPTION:Open to all\, this prayer group happens each Monday at 8:30 AM in the sanctuary. Let’s intercede for our body\, for our city and for the world! We pray over requests from connection cards; we ask for healing over the sick; we praise and thank the Lord as he leads each week. Join us! Questions? Email Randy: randywredeco@hotmail.com.
URL:https://sunnyside4.org/event/monday-morning-prayer-14/2030-02-11/
LOCATION:Sunnyside Church\, 13231 SE Sunnyside Road\, Happy Valley\, Oregon\, 97015
END:VEVENT
BEGIN:VEVENT
DTSTART;TZID=America/Los_Angeles:20300212T070000
DTEND;TZID=America/Los_Angeles:20300212T083000
DTSTAMP:20260424T175615
CREATED:20251202T001917Z
LAST-MODIFIED:20251230T191611Z
UID:10001490-1897110000-1897115400@sunnyside4.org
SUMMARY:Tuesday Men's Bible Study
DESCRIPTION:Men of Sunnyside\, please join us in room 215 for praise\, prayer and the Word!
URL:https://sunnyside4.org/event/tuesday-mens-bible-study/2030-02-12/
LOCATION:Sunnyside Church\, 13231 SE Sunnyside Road\, Happy Valley\, Oregon\, 97015
END:VEVENT
BEGIN:VEVENT
DTSTART;TZID=America/Los_Angeles:20300218T083000
DTEND;TZID=America/Los_Angeles:20300218T093000
DTSTAMP:20260424T175615
CREATED:20251202T221845Z
LAST-MODIFIED:20251230T192919Z
UID:10000957-1897633800-1897637400@sunnyside4.org
SUMMARY:Monday Morning Prayer
DESCRIPTION:Open to all\, this prayer group happens each Monday at 8:30 AM in the sanctuary. Let’s intercede for our body\, for our city and for the world! We pray over requests from connection cards; we ask for healing over the sick; we praise and thank the Lord as he leads each week. Join us! Questions? Email Randy: randywredeco@hotmail.com.
URL:https://sunnyside4.org/event/monday-morning-prayer-14/2030-02-18/
LOCATION:Sunnyside Church\, 13231 SE Sunnyside Road\, Happy Valley\, Oregon\, 97015
END:VEVENT
BEGIN:VEVENT
DTSTART;TZID=America/Los_Angeles:20300219T070000
DTEND;TZID=America/Los_Angeles:20300219T083000
DTSTAMP:20260424T175615
CREATED:20251202T001917Z
LAST-MODIFIED:20251230T191611Z
UID:10001491-1897714800-1897720200@sunnyside4.org
SUMMARY:Tuesday Men's Bible Study
DESCRIPTION:Men of Sunnyside\, please join us in room 215 for praise\, prayer and the Word!
URL:https://sunnyside4.org/event/tuesday-mens-bible-study/2030-02-19/
LOCATION:Sunnyside Church\, 13231 SE Sunnyside Road\, Happy Valley\, Oregon\, 97015
END:VEVENT
BEGIN:VEVENT
DTSTART;TZID=America/Los_Angeles:20300225T083000
DTEND;TZID=America/Los_Angeles:20300225T093000
DTSTAMP:20260424T175615
CREATED:20251202T221845Z
LAST-MODIFIED:20251230T192919Z
UID:10000958-1898238600-1898242200@sunnyside4.org
SUMMARY:Monday Morning Prayer
DESCRIPTION:Open to all\, this prayer group happens each Monday at 8:30 AM in the sanctuary. Let’s intercede for our body\, for our city and for the world! We pray over requests from connection cards; we ask for healing over the sick; we praise and thank the Lord as he leads each week. Join us! Questions? Email Randy: randywredeco@hotmail.com.
URL:https://sunnyside4.org/event/monday-morning-prayer-14/2030-02-25/
LOCATION:Sunnyside Church\, 13231 SE Sunnyside Road\, Happy Valley\, Oregon\, 97015
END:VEVENT
BEGIN:VEVENT
DTSTART;TZID=America/Los_Angeles:20300226T070000
DTEND;TZID=America/Los_Angeles:20300226T083000
DTSTAMP:20260424T175615
CREATED:20251202T001917Z
LAST-MODIFIED:20251230T191611Z
UID:10001492-1898319600-1898325000@sunnyside4.org
SUMMARY:Tuesday Men's Bible Study
DESCRIPTION:Men of Sunnyside\, please join us in room 215 for praise\, prayer and the Word!
URL:https://sunnyside4.org/event/tuesday-mens-bible-study/2030-02-26/
LOCATION:Sunnyside Church\, 13231 SE Sunnyside Road\, Happy Valley\, Oregon\, 97015
END:VEVENT
BEGIN:VEVENT
DTSTART;TZID=America/Los_Angeles:20300304T083000
DTEND;TZID=America/Los_Angeles:20300304T093000
DTSTAMP:20260424T175615
CREATED:20251202T221845Z
LAST-MODIFIED:20251230T192919Z
UID:10000959-1898843400-1898847000@sunnyside4.org
SUMMARY:Monday Morning Prayer
DESCRIPTION:Open to all\, this prayer group happens each Monday at 8:30 AM in the sanctuary. Let’s intercede for our body\, for our city and for the world! We pray over requests from connection cards; we ask for healing over the sick; we praise and thank the Lord as he leads each week. Join us! Questions? Email Randy: randywredeco@hotmail.com.
URL:https://sunnyside4.org/event/monday-morning-prayer-14/2030-03-04/
LOCATION:Sunnyside Church\, 13231 SE Sunnyside Road\, Happy Valley\, Oregon\, 97015
END:VEVENT
BEGIN:VEVENT
DTSTART;TZID=America/Los_Angeles:20300305T070000
DTEND;TZID=America/Los_Angeles:20300305T083000
DTSTAMP:20260424T175615
CREATED:20251202T001917Z
LAST-MODIFIED:20251230T191611Z
UID:10001493-1898924400-1898929800@sunnyside4.org
SUMMARY:Tuesday Men's Bible Study
DESCRIPTION:Men of Sunnyside\, please join us in room 215 for praise\, prayer and the Word!
URL:https://sunnyside4.org/event/tuesday-mens-bible-study/2030-03-05/
LOCATION:Sunnyside Church\, 13231 SE Sunnyside Road\, Happy Valley\, Oregon\, 97015
END:VEVENT
BEGIN:VEVENT
DTSTART;TZID=America/Los_Angeles:20300311T083000
DTEND;TZID=America/Los_Angeles:20300311T093000
DTSTAMP:20260424T175615
CREATED:20251202T221845Z
LAST-MODIFIED:20251230T192919Z
UID:10000960-1899448200-1899451800@sunnyside4.org
SUMMARY:Monday Morning Prayer
DESCRIPTION:Open to all\, this prayer group happens each Monday at 8:30 AM in the sanctuary. Let’s intercede for our body\, for our city and for the world! We pray over requests from connection cards; we ask for healing over the sick; we praise and thank the Lord as he leads each week. Join us! Questions? Email Randy: randywredeco@hotmail.com.
URL:https://sunnyside4.org/event/monday-morning-prayer-14/2030-03-11/
LOCATION:Sunnyside Church\, 13231 SE Sunnyside Road\, Happy Valley\, Oregon\, 97015
END:VEVENT
BEGIN:VEVENT
DTSTART;TZID=America/Los_Angeles:20300312T070000
DTEND;TZID=America/Los_Angeles:20300312T083000
DTSTAMP:20260424T175615
CREATED:20251202T001917Z
LAST-MODIFIED:20251230T191611Z
UID:10001494-1899529200-1899534600@sunnyside4.org
SUMMARY:Tuesday Men's Bible Study
DESCRIPTION:Men of Sunnyside\, please join us in room 215 for praise\, prayer and the Word!
URL:https://sunnyside4.org/event/tuesday-mens-bible-study/2030-03-12/
LOCATION:Sunnyside Church\, 13231 SE Sunnyside Road\, Happy Valley\, Oregon\, 97015
END:VEVENT
BEGIN:VEVENT
DTSTART;TZID=America/Los_Angeles:20300318T083000
DTEND;TZID=America/Los_Angeles:20300318T093000
DTSTAMP:20260424T175615
CREATED:20251202T221845Z
LAST-MODIFIED:20251230T192919Z
UID:10000961-1900053000-1900056600@sunnyside4.org
SUMMARY:Monday Morning Prayer
DESCRIPTION:Open to all\, this prayer group happens each Monday at 8:30 AM in the sanctuary. Let’s intercede for our body\, for our city and for the world! We pray over requests from connection cards; we ask for healing over the sick; we praise and thank the Lord as he leads each week. Join us! Questions? Email Randy: randywredeco@hotmail.com.
URL:https://sunnyside4.org/event/monday-morning-prayer-14/2030-03-18/
LOCATION:Sunnyside Church\, 13231 SE Sunnyside Road\, Happy Valley\, Oregon\, 97015
END:VEVENT
BEGIN:VEVENT
DTSTART;TZID=America/Los_Angeles:20300319T070000
DTEND;TZID=America/Los_Angeles:20300319T083000
DTSTAMP:20260424T175615
CREATED:20251202T001917Z
LAST-MODIFIED:20251230T191611Z
UID:10001495-1900134000-1900139400@sunnyside4.org
SUMMARY:Tuesday Men's Bible Study
DESCRIPTION:Men of Sunnyside\, please join us in room 215 for praise\, prayer and the Word!
URL:https://sunnyside4.org/event/tuesday-mens-bible-study/2030-03-19/
LOCATION:Sunnyside Church\, 13231 SE Sunnyside Road\, Happy Valley\, Oregon\, 97015
END:VEVENT
END:VCALENDAR