BEGIN:VCALENDAR
VERSION:2.0
PRODID:-//Sunnyside Foursquare - ECPv6.15.20//NONSGML v1.0//EN
CALSCALE:GREGORIAN
METHOD:PUBLISH
X-WR-CALNAME:Sunnyside Foursquare
X-ORIGINAL-URL:https://sunnyside4.org
X-WR-CALDESC:Events for Sunnyside Foursquare
REFRESH-INTERVAL;VALUE=DURATION:PT1H
X-Robots-Tag:noindex
X-PUBLISHED-TTL:PT1H
BEGIN:VTIMEZONE
TZID:America/Los_Angeles
BEGIN:DAYLIGHT
TZOFFSETFROM:-0800
TZOFFSETTO:-0700
TZNAME:PDT
DTSTART:20240310T100000
END:DAYLIGHT
BEGIN:STANDARD
TZOFFSETFROM:-0700
TZOFFSETTO:-0800
TZNAME:PST
DTSTART:20241103T090000
END:STANDARD
BEGIN:DAYLIGHT
TZOFFSETFROM:-0800
TZOFFSETTO:-0700
TZNAME:PDT
DTSTART:20250309T100000
END:DAYLIGHT
BEGIN:STANDARD
TZOFFSETFROM:-0700
TZOFFSETTO:-0800
TZNAME:PST
DTSTART:20251102T090000
END:STANDARD
BEGIN:DAYLIGHT
TZOFFSETFROM:-0800
TZOFFSETTO:-0700
TZNAME:PDT
DTSTART:20260308T100000
END:DAYLIGHT
BEGIN:STANDARD
TZOFFSETFROM:-0700
TZOFFSETTO:-0800
TZNAME:PST
DTSTART:20261101T090000
END:STANDARD
BEGIN:DAYLIGHT
TZOFFSETFROM:-0800
TZOFFSETTO:-0700
TZNAME:PDT
DTSTART:20270314T100000
END:DAYLIGHT
BEGIN:STANDARD
TZOFFSETFROM:-0700
TZOFFSETTO:-0800
TZNAME:PST
DTSTART:20271107T090000
END:STANDARD
END:VTIMEZONE
BEGIN:VTIMEZONE
TZID:UTC
BEGIN:STANDARD
TZOFFSETFROM:+0000
TZOFFSETTO:+0000
TZNAME:UTC
DTSTART:20250101T000000
END:STANDARD
END:VTIMEZONE
BEGIN:VEVENT
DTSTART;TZID=America/Los_Angeles:20260216T083000
DTEND;TZID=America/Los_Angeles:20260216T093000
DTSTAMP:20260420T192955
CREATED:20251202T221845Z
LAST-MODIFIED:20251230T192919Z
UID:10000748-1771230600-1771234200@sunnyside4.org
SUMMARY:Monday Morning Prayer
DESCRIPTION:Open to all\, this prayer group happens each Monday at 8:30 AM in the sanctuary. Let’s intercede for our body\, for our city and for the world! We pray over requests from connection cards; we ask for healing over the sick; we praise and thank the Lord as he leads each week. Join us! Questions? Email Randy: randywredeco@hotmail.com.
URL:https://sunnyside4.org/event/monday-morning-prayer-14/2026-02-16/
LOCATION:Sunnyside Church\, 13231 SE Sunnyside Road\, Happy Valley\, Oregon\, 97015
END:VEVENT
BEGIN:VEVENT
DTSTART;TZID=UTC:20260211T180000
DTEND;TZID=UTC:20260211T200000
DTSTAMP:20260420T192955
CREATED:20260114T224423Z
LAST-MODIFIED:20260114T224423Z
UID:10001822-1770832800-1770840000@sunnyside4.org
SUMMARY:Women's Bible Study
DESCRIPTION:All women of Sunnyside are invited to this study using the book Don’t Look Back by Christine Cain. Please purchase this on Amazon here. We’ll meet in Room 215 from 6-8PM and discuss what it looks like to move forward with passion and purpose from the Lord.
URL:https://sunnyside4.org/event/womens-bible-study/2026-02-11/
LOCATION:Sunnyside Church\, 13231 SE Sunnyside Road\, Happy Valley\, Oregon\, 97015
END:VEVENT
BEGIN:VEVENT
DTSTART;TZID=UTC:20260210T180000
DTEND;TZID=UTC:20260210T200000
DTSTAMP:20260420T192955
CREATED:20260127T171731Z
LAST-MODIFIED:20260127T230338Z
UID:10001810-1770746400-1770753600@sunnyside4.org
SUMMARY:Genesis Process
DESCRIPTION:Please join us for The Genesis Process! This curriculum provides us with a biblical and neurochemical understanding of what causes our self-destruction and a real plan for lasting change. Buy your workbook for $32 here. See you in Room 215 at 6PM!
URL:https://sunnyside4.org/event/genesis-process-3/
LOCATION:Sunnyside Church\, 13231 SE Sunnyside Road\, Happy Valley\, Oregon\, 97015
ATTACH;FMTTYPE=image/png:https://sunnyside4.org/wp-content/uploads/2026/01/2026-Genesis-Process.png
END:VEVENT
BEGIN:VEVENT
DTSTART;TZID=America/Los_Angeles:20260210T070000
DTEND;TZID=America/Los_Angeles:20260210T083000
DTSTAMP:20260420T192955
CREATED:20251202T001917Z
LAST-MODIFIED:20251230T191611Z
UID:10001281-1770706800-1770712200@sunnyside4.org
SUMMARY:Tuesday Men's Bible Study
DESCRIPTION:Men of Sunnyside\, please join us in room 215 for praise\, prayer and the Word!
URL:https://sunnyside4.org/event/tuesday-mens-bible-study/2026-02-10/
LOCATION:Sunnyside Church\, 13231 SE Sunnyside Road\, Happy Valley\, Oregon\, 97015
END:VEVENT
BEGIN:VEVENT
DTSTART;TZID=America/Los_Angeles:20260209T083000
DTEND;TZID=America/Los_Angeles:20260209T093000
DTSTAMP:20260420T192955
CREATED:20251202T221845Z
LAST-MODIFIED:20251230T192919Z
UID:10000747-1770625800-1770629400@sunnyside4.org
SUMMARY:Monday Morning Prayer
DESCRIPTION:Open to all\, this prayer group happens each Monday at 8:30 AM in the sanctuary. Let’s intercede for our body\, for our city and for the world! We pray over requests from connection cards; we ask for healing over the sick; we praise and thank the Lord as he leads each week. Join us! Questions? Email Randy: randywredeco@hotmail.com.
URL:https://sunnyside4.org/event/monday-morning-prayer-14/2026-02-09/
LOCATION:Sunnyside Church\, 13231 SE Sunnyside Road\, Happy Valley\, Oregon\, 97015
END:VEVENT
BEGIN:VEVENT
DTSTART;TZID=UTC:20260208T100000
DTEND;TZID=UTC:20260208T111500
DTSTAMP:20260420T192955
CREATED:20260112T235720Z
LAST-MODIFIED:20260112T235720Z
UID:10001804-1770544800-1770549300@sunnyside4.org
SUMMARY:Baptisms
DESCRIPTION:We will have a baptism during our normal Sunday service for those who have decided to make their love for Jesus public. If it is your desire to participate and get baptized\, please speak with a staff member before this Sunday so we can properly prepare you for the morning.
URL:https://sunnyside4.org/event/baptisms/
LOCATION:Sunnyside Church\, 13231 SE Sunnyside Road\, Happy Valley\, Oregon\, 97015
END:VEVENT
BEGIN:VEVENT
DTSTART;TZID=UTC:20260204T180000
DTEND;TZID=UTC:20260204T200000
DTSTAMP:20260420T192955
CREATED:20260114T224423Z
LAST-MODIFIED:20260114T224423Z
UID:10001821-1770228000-1770235200@sunnyside4.org
SUMMARY:Women's Bible Study
DESCRIPTION:All women of Sunnyside are invited to this study using the book Don’t Look Back by Christine Cain. Please purchase this on Amazon here. We’ll meet in Room 215 from 6-8PM and discuss what it looks like to move forward with passion and purpose from the Lord.
URL:https://sunnyside4.org/event/womens-bible-study/2026-02-04/
LOCATION:Sunnyside Church\, 13231 SE Sunnyside Road\, Happy Valley\, Oregon\, 97015
END:VEVENT
BEGIN:VEVENT
DTSTART;TZID=UTC:20260203T180000
DTEND;TZID=UTC:20260203T200000
DTSTAMP:20260420T192955
CREATED:20260127T171500Z
LAST-MODIFIED:20260127T225526Z
UID:10001809-1770141600-1770148800@sunnyside4.org
SUMMARY:Genesis Process
DESCRIPTION:Please join us for The Genesis Process! This curriculum provides us with a biblical and neurochemical understanding of what causes our self-destruction and a real plan for lasting change. Buy your workbook for $32 here. See you in Room 215 at 6PM!
URL:https://sunnyside4.org/event/genesis-process-2/
LOCATION:Sunnyside Church\, 13231 SE Sunnyside Road\, Happy Valley\, Oregon\, 97015
END:VEVENT
BEGIN:VEVENT
DTSTART;TZID=America/Los_Angeles:20260203T070000
DTEND;TZID=America/Los_Angeles:20260203T083000
DTSTAMP:20260420T192955
CREATED:20251202T001917Z
LAST-MODIFIED:20251230T191611Z
UID:10001280-1770102000-1770107400@sunnyside4.org
SUMMARY:Tuesday Men's Bible Study
DESCRIPTION:Men of Sunnyside\, please join us in room 215 for praise\, prayer and the Word!
URL:https://sunnyside4.org/event/tuesday-mens-bible-study/2026-02-03/
LOCATION:Sunnyside Church\, 13231 SE Sunnyside Road\, Happy Valley\, Oregon\, 97015
END:VEVENT
BEGIN:VEVENT
DTSTART;TZID=America/Los_Angeles:20260202T083000
DTEND;TZID=America/Los_Angeles:20260202T093000
DTSTAMP:20260420T192955
CREATED:20251202T221845Z
LAST-MODIFIED:20251230T192919Z
UID:10000746-1770021000-1770024600@sunnyside4.org
SUMMARY:Monday Morning Prayer
DESCRIPTION:Open to all\, this prayer group happens each Monday at 8:30 AM in the sanctuary. Let’s intercede for our body\, for our city and for the world! We pray over requests from connection cards; we ask for healing over the sick; we praise and thank the Lord as he leads each week. Join us! Questions? Email Randy: randywredeco@hotmail.com.
URL:https://sunnyside4.org/event/monday-morning-prayer-14/2026-02-02/
LOCATION:Sunnyside Church\, 13231 SE Sunnyside Road\, Happy Valley\, Oregon\, 97015
END:VEVENT
BEGIN:VEVENT
DTSTART;TZID=UTC:20260128T180000
DTEND;TZID=UTC:20260128T200000
DTSTAMP:20260420T192955
CREATED:20260114T224423Z
LAST-MODIFIED:20260114T224423Z
UID:10001820-1769623200-1769630400@sunnyside4.org
SUMMARY:Women's Bible Study
DESCRIPTION:All women of Sunnyside are invited to this study using the book Don’t Look Back by Christine Cain. Please purchase this on Amazon here. We’ll meet in Room 215 from 6-8PM and discuss what it looks like to move forward with passion and purpose from the Lord.
URL:https://sunnyside4.org/event/womens-bible-study/2026-01-28/
LOCATION:Sunnyside Church\, 13231 SE Sunnyside Road\, Happy Valley\, Oregon\, 97015
END:VEVENT
BEGIN:VEVENT
DTSTART;TZID=America/Los_Angeles:20260127T070000
DTEND;TZID=America/Los_Angeles:20260127T083000
DTSTAMP:20260420T192955
CREATED:20251202T001917Z
LAST-MODIFIED:20251230T191611Z
UID:10001279-1769497200-1769502600@sunnyside4.org
SUMMARY:Tuesday Men's Bible Study
DESCRIPTION:Men of Sunnyside\, please join us in room 215 for praise\, prayer and the Word!
URL:https://sunnyside4.org/event/tuesday-mens-bible-study/2026-01-27/
LOCATION:Sunnyside Church\, 13231 SE Sunnyside Road\, Happy Valley\, Oregon\, 97015
END:VEVENT
BEGIN:VEVENT
DTSTART;TZID=America/Los_Angeles:20260126T083000
DTEND;TZID=America/Los_Angeles:20260126T093000
DTSTAMP:20260420T192955
CREATED:20251202T221845Z
LAST-MODIFIED:20251230T192919Z
UID:10000745-1769416200-1769419800@sunnyside4.org
SUMMARY:Monday Morning Prayer
DESCRIPTION:Open to all\, this prayer group happens each Monday at 8:30 AM in the sanctuary. Let’s intercede for our body\, for our city and for the world! We pray over requests from connection cards; we ask for healing over the sick; we praise and thank the Lord as he leads each week. Join us! Questions? Email Randy: randywredeco@hotmail.com.
URL:https://sunnyside4.org/event/monday-morning-prayer-14/2026-01-26/
LOCATION:Sunnyside Church\, 13231 SE Sunnyside Road\, Happy Valley\, Oregon\, 97015
END:VEVENT
BEGIN:VEVENT
DTSTART;TZID=UTC:20260121T180000
DTEND;TZID=UTC:20260121T200000
DTSTAMP:20260420T192955
CREATED:20260114T224423Z
LAST-MODIFIED:20260114T224423Z
UID:10001819-1769018400-1769025600@sunnyside4.org
SUMMARY:Women's Bible Study
DESCRIPTION:All women of Sunnyside are invited to this study using the book Don’t Look Back by Christine Cain. Please purchase this on Amazon here. We’ll meet in Room 215 from 6-8PM and discuss what it looks like to move forward with passion and purpose from the Lord.
URL:https://sunnyside4.org/event/womens-bible-study/2026-01-21/
LOCATION:Sunnyside Church\, 13231 SE Sunnyside Road\, Happy Valley\, Oregon\, 97015
END:VEVENT
BEGIN:VEVENT
DTSTART;TZID=America/Los_Angeles:20260120T070000
DTEND;TZID=America/Los_Angeles:20260120T083000
DTSTAMP:20260420T192955
CREATED:20251202T001917Z
LAST-MODIFIED:20251230T191611Z
UID:10001278-1768892400-1768897800@sunnyside4.org
SUMMARY:Tuesday Men's Bible Study
DESCRIPTION:Men of Sunnyside\, please join us in room 215 for praise\, prayer and the Word!
URL:https://sunnyside4.org/event/tuesday-mens-bible-study/2026-01-20/
LOCATION:Sunnyside Church\, 13231 SE Sunnyside Road\, Happy Valley\, Oregon\, 97015
END:VEVENT
BEGIN:VEVENT
DTSTART;TZID=America/Los_Angeles:20260119T083000
DTEND;TZID=America/Los_Angeles:20260119T093000
DTSTAMP:20260420T192955
CREATED:20251202T221845Z
LAST-MODIFIED:20251230T192919Z
UID:10000744-1768811400-1768815000@sunnyside4.org
SUMMARY:Monday Morning Prayer
DESCRIPTION:Open to all\, this prayer group happens each Monday at 8:30 AM in the sanctuary. Let’s intercede for our body\, for our city and for the world! We pray over requests from connection cards; we ask for healing over the sick; we praise and thank the Lord as he leads each week. Join us! Questions? Email Randy: randywredeco@hotmail.com.
URL:https://sunnyside4.org/event/monday-morning-prayer-14/2026-01-19/
LOCATION:Sunnyside Church\, 13231 SE Sunnyside Road\, Happy Valley\, Oregon\, 97015
END:VEVENT
BEGIN:VEVENT
DTSTART;TZID=UTC:20260114T180000
DTEND;TZID=UTC:20260114T200000
DTSTAMP:20260420T192955
CREATED:20260114T224423Z
LAST-MODIFIED:20260114T224423Z
UID:10001818-1768413600-1768420800@sunnyside4.org
SUMMARY:Women's Bible Study
DESCRIPTION:All women of Sunnyside are invited to this study using the book Don’t Look Back by Christine Cain. Please purchase this on Amazon here. We’ll meet in Room 215 from 6-8PM and discuss what it looks like to move forward with passion and purpose from the Lord.
URL:https://sunnyside4.org/event/womens-bible-study/2026-01-14/
LOCATION:Sunnyside Church\, 13231 SE Sunnyside Road\, Happy Valley\, Oregon\, 97015
END:VEVENT
BEGIN:VEVENT
DTSTART;TZID=America/Los_Angeles:20260113T070000
DTEND;TZID=America/Los_Angeles:20260113T083000
DTSTAMP:20260420T192955
CREATED:20251202T001917Z
LAST-MODIFIED:20251230T191611Z
UID:10001277-1768287600-1768293000@sunnyside4.org
SUMMARY:Tuesday Men's Bible Study
DESCRIPTION:Men of Sunnyside\, please join us in room 215 for praise\, prayer and the Word!
URL:https://sunnyside4.org/event/tuesday-mens-bible-study/2026-01-13/
LOCATION:Sunnyside Church\, 13231 SE Sunnyside Road\, Happy Valley\, Oregon\, 97015
END:VEVENT
BEGIN:VEVENT
DTSTART;TZID=America/Los_Angeles:20260112T083000
DTEND;TZID=America/Los_Angeles:20260112T093000
DTSTAMP:20260420T192955
CREATED:20251202T221845Z
LAST-MODIFIED:20251230T192919Z
UID:10000743-1768206600-1768210200@sunnyside4.org
SUMMARY:Monday Morning Prayer
DESCRIPTION:Open to all\, this prayer group happens each Monday at 8:30 AM in the sanctuary. Let’s intercede for our body\, for our city and for the world! We pray over requests from connection cards; we ask for healing over the sick; we praise and thank the Lord as he leads each week. Join us! Questions? Email Randy: randywredeco@hotmail.com.
URL:https://sunnyside4.org/event/monday-morning-prayer-14/2026-01-12/
LOCATION:Sunnyside Church\, 13231 SE Sunnyside Road\, Happy Valley\, Oregon\, 97015
END:VEVENT
BEGIN:VEVENT
DTSTART;TZID=UTC:20260111T113000
DTEND;TZID=UTC:20260111T123000
DTSTAMP:20260420T192955
CREATED:20251226T232209Z
LAST-MODIFIED:20260108T234208Z
UID:10001796-1768131000-1768134600@sunnyside4.org
SUMMARY:After Party
DESCRIPTION:Directly after service\, we’ll meet for lunch in the Youth Center and connect with staff\, learn about connect groups starting up\, and have a Cake Walk! You are invited!
URL:https://sunnyside4.org/event/after-party/
LOCATION:Sunnyside Church\, 13231 SE Sunnyside Road\, Happy Valley\, Oregon\, 97015
ATTACH;FMTTYPE=image/png:https://sunnyside4.org/wp-content/uploads/2025/12/After-Party-Presentation-1.png
END:VEVENT
BEGIN:VEVENT
DTSTART;TZID=America/Los_Angeles:20260106T070000
DTEND;TZID=America/Los_Angeles:20260106T083000
DTSTAMP:20260420T192955
CREATED:20251202T001917Z
LAST-MODIFIED:20251230T191611Z
UID:10001276-1767682800-1767688200@sunnyside4.org
SUMMARY:Tuesday Men's Bible Study
DESCRIPTION:Men of Sunnyside\, please join us in room 215 for praise\, prayer and the Word!
URL:https://sunnyside4.org/event/tuesday-mens-bible-study/2026-01-06/
LOCATION:Sunnyside Church\, 13231 SE Sunnyside Road\, Happy Valley\, Oregon\, 97015
END:VEVENT
BEGIN:VEVENT
DTSTART;TZID=America/Los_Angeles:20260105T083000
DTEND;TZID=America/Los_Angeles:20260105T093000
DTSTAMP:20260420T192955
CREATED:20251202T221845Z
LAST-MODIFIED:20251230T192919Z
UID:10000742-1767601800-1767605400@sunnyside4.org
SUMMARY:Monday Morning Prayer
DESCRIPTION:Open to all\, this prayer group happens each Monday at 8:30 AM in the sanctuary. Let’s intercede for our body\, for our city and for the world! We pray over requests from connection cards; we ask for healing over the sick; we praise and thank the Lord as he leads each week. Join us! Questions? Email Randy: randywredeco@hotmail.com.
URL:https://sunnyside4.org/event/monday-morning-prayer-14/2026-01-05/
LOCATION:Sunnyside Church\, 13231 SE Sunnyside Road\, Happy Valley\, Oregon\, 97015
END:VEVENT
BEGIN:VEVENT
DTSTART;TZID=America/Los_Angeles:20251230T070000
DTEND;TZID=America/Los_Angeles:20251230T083000
DTSTAMP:20260420T192955
CREATED:20251202T001917Z
LAST-MODIFIED:20251230T191611Z
UID:10001275-1767078000-1767083400@sunnyside4.org
SUMMARY:Tuesday Men's Bible Study
DESCRIPTION:Men of Sunnyside\, please join us in room 215 for praise\, prayer and the Word!
URL:https://sunnyside4.org/event/tuesday-mens-bible-study/2025-12-30/
LOCATION:Sunnyside Church\, 13231 SE Sunnyside Road\, Happy Valley\, Oregon\, 97015
END:VEVENT
BEGIN:VEVENT
DTSTART;TZID=America/Los_Angeles:20251229T083000
DTEND;TZID=America/Los_Angeles:20251229T093000
DTSTAMP:20260420T192955
CREATED:20251202T221845Z
LAST-MODIFIED:20251230T192919Z
UID:10000361-1766997000-1767000600@sunnyside4.org
SUMMARY:Monday Morning Prayer
DESCRIPTION:Open to all\, this prayer group happens each Monday at 8:30 AM in the sanctuary. Let’s intercede for our body\, for our city and for the world! We pray over requests from connection cards; we ask for healing over the sick; we praise and thank the Lord as he leads each week. Join us! Questions? Email Randy: randywredeco@hotmail.com.
URL:https://sunnyside4.org/event/monday-morning-prayer-14/2025-12-29/
LOCATION:Sunnyside Church\, 13231 SE Sunnyside Road\, Happy Valley\, Oregon\, 97015
END:VEVENT
BEGIN:VEVENT
DTSTART;TZID=America/Los_Angeles:20251224T160000
DTEND;TZID=America/Los_Angeles:20251224T170000
DTSTAMP:20260420T192955
CREATED:20251202T003332Z
LAST-MODIFIED:20251221T001041Z
UID:10000013-1766592000-1766595600@sunnyside4.org
SUMMARY:Christmas Eve Service
DESCRIPTION:Enjoy a traditional candlelight service with Christmas carols\, the Christmas story and an inspiring message.
URL:https://sunnyside4.org/event/christmas-eve-service-7/
LOCATION:Sunnyside Church\, 13231 SE Sunnyside Road\, Happy Valley\, Oregon\, 97015
CATEGORIES:Christmas
ATTACH;FMTTYPE=image/webp:https://sunnyside4.org/wp-content/uploads/2025/12/Christmas-Eve-Service-1536x915-1.webp
END:VEVENT
BEGIN:VEVENT
DTSTART;TZID=America/Los_Angeles:20251223T070000
DTEND;TZID=America/Los_Angeles:20251223T083000
DTSTAMP:20260420T192955
CREATED:20251202T001917Z
LAST-MODIFIED:20251230T191611Z
UID:10001274-1766473200-1766478600@sunnyside4.org
SUMMARY:Tuesday Men's Bible Study
DESCRIPTION:Men of Sunnyside\, please join us in room 215 for praise\, prayer and the Word!
URL:https://sunnyside4.org/event/tuesday-mens-bible-study/2025-12-23/
LOCATION:Sunnyside Church\, 13231 SE Sunnyside Road\, Happy Valley\, Oregon\, 97015
END:VEVENT
BEGIN:VEVENT
DTSTART;TZID=America/Los_Angeles:20251216T070000
DTEND;TZID=America/Los_Angeles:20251216T083000
DTSTAMP:20260420T192955
CREATED:20251202T001917Z
LAST-MODIFIED:20251230T191611Z
UID:10001273-1765868400-1765873800@sunnyside4.org
SUMMARY:Tuesday Men's Bible Study
DESCRIPTION:Men of Sunnyside\, please join us in room 215 for praise\, prayer and the Word!
URL:https://sunnyside4.org/event/tuesday-mens-bible-study/2025-12-16/
LOCATION:Sunnyside Church\, 13231 SE Sunnyside Road\, Happy Valley\, Oregon\, 97015
END:VEVENT
BEGIN:VEVENT
DTSTART;TZID=America/Los_Angeles:20251209T070000
DTEND;TZID=America/Los_Angeles:20251209T083000
DTSTAMP:20260420T192955
CREATED:20251202T001917Z
LAST-MODIFIED:20251230T191611Z
UID:10001272-1765263600-1765269000@sunnyside4.org
SUMMARY:Tuesday Men's Bible Study
DESCRIPTION:Men of Sunnyside\, please join us in room 215 for praise\, prayer and the Word!
URL:https://sunnyside4.org/event/tuesday-mens-bible-study/2025-12-09/
LOCATION:Sunnyside Church\, 13231 SE Sunnyside Road\, Happy Valley\, Oregon\, 97015
END:VEVENT
BEGIN:VEVENT
DTSTART;TZID=America/Los_Angeles:20251202T070000
DTEND;TZID=America/Los_Angeles:20251202T083000
DTSTAMP:20260420T192955
CREATED:20251202T001917Z
LAST-MODIFIED:20251230T191611Z
UID:10000476-1764658800-1764664200@sunnyside4.org
SUMMARY:Tuesday Men's Bible Study
DESCRIPTION:Men of Sunnyside\, please join us in room 215 for praise\, prayer and the Word!
URL:https://sunnyside4.org/event/tuesday-mens-bible-study/2025-12-02/
LOCATION:Sunnyside Church\, 13231 SE Sunnyside Road\, Happy Valley\, Oregon\, 97015
END:VEVENT
END:VCALENDAR